BEGIN:VCALENDAR
VERSION:2.0
PRODID:-//New River Gorge CVB - ECPv6.15.20//NONSGML v1.0//EN
CALSCALE:GREGORIAN
METHOD:PUBLISH
X-WR-CALNAME:New River Gorge CVB
X-ORIGINAL-URL:https://newrivergorgecvb.com
X-WR-CALDESC:Events for New River Gorge CVB
REFRESH-INTERVAL;VALUE=DURATION:PT1H
X-Robots-Tag:noindex
X-PUBLISHED-TTL:PT1H
BEGIN:VTIMEZONE
TZID:America/New_York
BEGIN:DAYLIGHT
TZOFFSETFROM:-0500
TZOFFSETTO:-0400
TZNAME:EDT
DTSTART:20250309T070000
END:DAYLIGHT
BEGIN:STANDARD
TZOFFSETFROM:-0400
TZOFFSETTO:-0500
TZNAME:EST
DTSTART:20251102T060000
END:STANDARD
BEGIN:DAYLIGHT
TZOFFSETFROM:-0500
TZOFFSETTO:-0400
TZNAME:EDT
DTSTART:20260308T070000
END:DAYLIGHT
BEGIN:STANDARD
TZOFFSETFROM:-0400
TZOFFSETTO:-0500
TZNAME:EST
DTSTART:20261101T060000
END:STANDARD
BEGIN:DAYLIGHT
TZOFFSETFROM:-0500
TZOFFSETTO:-0400
TZNAME:EDT
DTSTART:20270314T070000
END:DAYLIGHT
BEGIN:STANDARD
TZOFFSETFROM:-0400
TZOFFSETTO:-0500
TZNAME:EST
DTSTART:20271107T060000
END:STANDARD
END:VTIMEZONE
BEGIN:VEVENT
DTSTART;VALUE=DATE:20260425
DTEND;VALUE=DATE:20260426
DTSTAMP:20260424T084903
CREATED:20251120T165821Z
LAST-MODIFIED:20251120T165821Z
UID:10002447-1777075200-1777161599@newrivergorgecvb.com
SUMMARY:Falling Water 100K
DESCRIPTION:Like each Rim to River Endurance Co. race before it\, the Falling Water Ultras looks to bring something new & uniquely its own to ultra running in the New River Gorge. This course consists of 4 x 25K (15.5 mile) loops on the amazing trails at ACE Adventure Resort & dropping into New River Gorge National Park. The route incorporates the two main creeks in the area\, Rush Run & Arbuckle. Run next to a multitude of waterfalls\, along the banks of the New River\, and test your rock-hopping skills at the picturesque Arbuckle Creek crossing. Views abound as each loop touts 2\,400’ of elevation gain and loss. Run some of the same trails from the Rim to River 100 & Cabin Fever 50K while also getting on some brand new sections! Runners will be treated to a hyped & over stocked aid station at the Start/Finish area where they can access crew or their campsite/vehicle\, but while out on each 15.5 mile loop\, runners must carry all their own food/fuel. Hydration stations with water & Gnarly Fuel2-O will be available at the 5 & 10 mile point of each loop. Race will begin at 7:00am and runners can compete solo with a 24-hour cutoff in the 100K and a 12-hour cutoff in the 50K. 1st place 100K male & female will earn a free entry into that years Rim to River 100 in November! Solo 100K runners are also allowed to have a pacer for their last loop. A two-person relay team option for the 100K is available as well as a four-person 100K relay with each member running one 15.5 mile loop.
URL:https://newrivergorgecvb.com/event/falling-water-100k/
LOCATION:ACE Adventure Resort\, 1 Concho Road\, Oak Hill\, WV\, 25901\, United States
ORGANIZER;CN="ACE Adventure Resort":MAILTO:ace@aceraft.com
END:VEVENT
BEGIN:VEVENT
DTSTART;TZID=America/New_York:20260501T090000
DTEND;TZID=America/New_York:20260503T120000
DTSTAMP:20260424T084903
CREATED:20250520T145354Z
LAST-MODIFIED:20250520T145354Z
UID:10002277-1777626000-1777809600@newrivergorgecvb.com
SUMMARY:Expo Adventure-Appalachia
DESCRIPTION:Welcome to Expo Adventure – Appalachia\, nestled in the heart of rugged\, breathtaking\, West Virginia at America’s newest National Park\, The New River Gorge! This isn’t just another expo—it’s an adventure-lover’s paradise\, bringing together some of the nation’s most thrilling outdoor enthusiasts and explorers.\nDive into an exhilarating weekend packed full of adventure activities including Overlanding\, Off-roading\, Camping\, Kayaking\, Mountain Biking\, Hiking\, White Water Rafting\, Paddle Boarding\, Zip Lining\, Swimming and much more! But\, that’s not all! Expo Adventure – Appalachia has an exciting lineup of manufactures and vendors exhibiting\, multiple on-site activities and experiences! Expo Adventure redefines traditional expos by immersing you directly into the heart of adventure!\nExplore over 500 acres of incredible off-roading trails. These trails range from mild to wild terrain\, feature challenging rock gardens and deep gulches to traverse. Whether you’re a beginner or a seasoned veteran\, you’ll find plenty of excitement and adventure with our comprehensive trail pass. Enhance your experience with optional 4×4 Jeep\, Side-by-side (SxS) and ATV rentals available onsite.\nDiscover camaraderie among fellow adventurers\, browse a vast selection of gear and services from top exhibitors at our mountaintop vendor area\, or simply relax in scenic camping spots with spectacular views.\nExpo Adventure truly offers something special for everyone!\n***Important*** Expo Adventure passes include access to Expo Adventure event located at the “Mountain Top” area of Ace Adventure Resort and 10% discount off all Ace Adventure Resort activities!\n***Important*** All Ace Adventure Resort adventures can be booked here \nExhibitors Alley – Top brands from all across the USA!\nAdventure Activities – Engage in thrilling outdoor pursuits designed for all ages and skill levels. Book Here!\nFamily Fun – Enjoy an extensive on-site water park with exhilarating inflatables\, zip lining into refreshing waters\, and swimming adventures!\nDining and Accommodations – Savor delicious meals at three convenient on-site restaurants or unwind in beautiful cozy cabin rentals surrounded by stunning Appalachian scenery.\nMountain Top Camping – One of the most scenic open meadow camping areas on the east coast! Premium camping is available.\nExhibitors/Vendors – Apply here\nInfluencer Alley – Apply here\nTrainers – Apply here\nEducational Presenters – Apply here\nWhether you’re a seasoned adventurer\, outdoor enthusiast or just looking for the perfect family vacation\, Expo Adventure – Appalachia promises an unforgettable experience filled with excitement\, exploration\, and endless fun!\nJoin us and experience adventure redefined!\nAmenities included\nClean restrooms with flushing toilets\nHot Showers\nFresh drinking water\nFree parking\nNo extra charge for trailers 20-ft or less\nShuttles to and from campground to resort restaurants and activities\nLive Music – Friday and Saturday\nEducational Seminars – Friday and Saturday\n10% Discount Code for all Ace Adventure Resort Activities\nLocated at Ace Adventure Resort- located on 1500 acres bordering America’s newest National Park – New River Gorge National Park\nAddress:\nAce Adventure Resort\n1 CONCHO RD\nOAK Hill\, WV 25901\nQuestions? Reach out to John at 828-322-6463 or info@Overlanderproject.com
URL:https://newrivergorgecvb.com/event/expo-adventure-appalachia/
LOCATION:ACE Adventure Resort\, 1 Concho Road\, Oak Hill\, WV\, 25901\, United States
END:VEVENT
BEGIN:VEVENT
DTSTART;TZID=America/New_York:20260509T080000
DTEND;TZID=America/New_York:20260509T180000
DTSTAMP:20260424T084903
CREATED:20251212T215431Z
LAST-MODIFIED:20251212T215431Z
UID:10002475-1778313600-1778349600@newrivergorgecvb.com
SUMMARY:Dog Days of Spring & Bark Bash
DESCRIPTION:Celebrate the season of renewal with your four-legged best friend at ACE Adventure Resort’s Dog Days of Spring! On Saturday\, May 9\, 2026\, this fun-filled event is the perfect way to enjoy the great outdoors with your pup while exploring a variety of exciting activities designed for both humans and dogs. \n Bark Bash 5K – Lace up your running shoes\, leash up your furry friend\, and hit the trails for a scenic 5K run or walk. Whether you’re racing to win or just out for a fun jog\, it’s a great way to kick off the day!
URL:https://newrivergorgecvb.com/event/dog-days-of-spring-bark-bash/
LOCATION:ACE Adventure Resort\, 1 Concho Road\, Oak Hill\, WV\, 25901\, United States
ORGANIZER;CN="ACE Adventure Resort":MAILTO:ace@aceraft.com
END:VEVENT
BEGIN:VEVENT
DTSTART;VALUE=DATE:20260604
DTEND;VALUE=DATE:20260607
DTSTAMP:20260424T084903
CREATED:20251215T202814Z
LAST-MODIFIED:20251215T202814Z
UID:10002478-1780531200-1780790399@newrivergorgecvb.com
SUMMARY:Mountain Music Festival
DESCRIPTION:Get ready to return to the mountaintop June 4th–6th\, 2026 as Mountain Music Festival takes over ACE Adventure Resort in the New River Gorge National Park\, for three unforgettable days of live music\, camping\, art\, and outdoor adventure! \n\nThis isn’t just a music festival—it’s a full-on mountain experience. Jam with your favorite national and regional bands across multiple stages including the Mountaintop Main Stage\, Lake Stage\, and Late Night Pavilion. Dance under the stars\, jump into the lake\, vibe at the Pigment Sanctuary Art Gallery\, and party deep into the night with your festival family.
URL:https://newrivergorgecvb.com/event/mountain-music-festival-2/
LOCATION:ACE Adventure Resort\, 1 Concho Road\, Oak Hill\, WV\, 25901\, United States
ORGANIZER;CN="ACE Adventure Resort":MAILTO:ace@aceraft.com
END:VEVENT
BEGIN:VEVENT
DTSTART;TZID=America/New_York:20260620T090000
DTEND;TZID=America/New_York:20260620T090000
DTSTAMP:20260424T084903
CREATED:20260209T201123Z
LAST-MODIFIED:20260209T201123Z
UID:10003091-1781946000-1781946000@newrivergorgecvb.com
SUMMARY:Gritty Chix Mud Run 2026
DESCRIPTION:Get ready to get down and dirty at the Gritty Chix Mud Run on Saturday\, June 20th at ACE Adventure Resort! This wildly fun\, non-competitive mud run is perfect for all women (and girls ages 10+) who want to embrace their gritty side. Whether you’re walking\, jogging\, or charging through the course\, you’ll tackle obstacles\, splash through mud pits\, and have a blast with your friends while celebrating strength\, confidence\, and fun!\nNo matter your fitness level\, this event is all about camaraderie\, laughter\, and finishing strong—muddy smiles guaranteed.\n A mud-splattered\, obstacle-filled course for all skill levels Fun team atmosphere – bring your crew! Post-run party and music at ACE Adventure Resort Support a great cause while having a great time\nJoin us for an unforgettable day of grit\, mud\, and fun—all while giving back to the community! This year Gritty Chix supports the Girl Scouts of Black Diamond Council with a portion of the proceeds benefiting this great cause.
URL:https://newrivergorgecvb.com/event/gritty-chix-mud-run-2026/
LOCATION:ACE Adventure Resort\, 1 Concho Road\, Oak Hill\, WV\, 25901\, United States
ORGANIZER;CN="ACE Adventure Resort":MAILTO:ace@aceraft.com
END:VEVENT
BEGIN:VEVENT
DTSTART;VALUE=DATE:20260731
DTEND;VALUE=DATE:20260802
DTSTAMP:20260424T084903
CREATED:20260114T151819Z
LAST-MODIFIED:20260114T151819Z
UID:10002678-1785456000-1785628799@newrivergorgecvb.com
SUMMARY:Boots In The Gorge Country Music Festival
DESCRIPTION:Get ready to kick up some dust and dance under the stars at Boots In The Gorge\, the newest country music festival in the heart of West Virginia’s New River Gorge! For two unforgettable days\, we’re bringing the best of country music to the mountaintop—featuring high-energy headliners\, rising Nashville stars\, and your favorite homegrown Appalachian talent.\nBring your boots\, your friends\, and your party spirit… this is the country music weekend you’ve been waiting for! Stay tuned for lineup and ticket information coming soon.
URL:https://newrivergorgecvb.com/event/boots-in-the-gorge-country-music-festival/
LOCATION:ACE Adventure Resort\, 1 Concho Road\, Oak Hill\, WV\, 25901\, United States
ORGANIZER;CN="ACE Adventure Resort":MAILTO:ace@aceraft.com
END:VEVENT
BEGIN:VEVENT
DTSTART;VALUE=DATE:20260806
DTEND;VALUE=DATE:20260809
DTSTAMP:20260424T084903
CREATED:20251215T202945Z
LAST-MODIFIED:20251215T202945Z
UID:10002479-1785974400-1786233599@newrivergorgecvb.com
SUMMARY:Domefest
DESCRIPTION:The flock is flying back to the mountaintop! Domefest returns to ACE Adventure Resort for a high-energy\, heart-full weekend in the New River Gorge—featuring three nights of Pigeons Playing Ping Pong and the ultimate Domie gathering in the mountains of West Virginia. Expect marathon jams\, surprise sit-ins\, and that signature Pigeons positivity echoing through the pines.
URL:https://newrivergorgecvb.com/event/domefest/
LOCATION:ACE Adventure Resort\, 1 Concho Road\, Oak Hill\, WV\, 25901\, United States
ORGANIZER;CN="ACE Adventure Resort":MAILTO:ace@aceraft.com
END:VEVENT
END:VCALENDAR