BEGIN:VCALENDAR
VERSION:2.0
PRODID:-//New River Gorge CVB - ECPv6.15.20//NONSGML v1.0//EN
CALSCALE:GREGORIAN
METHOD:PUBLISH
X-ORIGINAL-URL:https://newrivergorgecvb.com
X-WR-CALDESC:Events for New River Gorge CVB
REFRESH-INTERVAL;VALUE=DURATION:PT1H
X-Robots-Tag:noindex
X-PUBLISHED-TTL:PT1H
BEGIN:VTIMEZONE
TZID:America/New_York
BEGIN:DAYLIGHT
TZOFFSETFROM:-0500
TZOFFSETTO:-0400
TZNAME:EDT
DTSTART:20200308T070000
END:DAYLIGHT
BEGIN:STANDARD
TZOFFSETFROM:-0400
TZOFFSETTO:-0500
TZNAME:EST
DTSTART:20201101T060000
END:STANDARD
BEGIN:DAYLIGHT
TZOFFSETFROM:-0500
TZOFFSETTO:-0400
TZNAME:EDT
DTSTART:20210314T070000
END:DAYLIGHT
BEGIN:STANDARD
TZOFFSETFROM:-0400
TZOFFSETTO:-0500
TZNAME:EST
DTSTART:20211107T060000
END:STANDARD
BEGIN:DAYLIGHT
TZOFFSETFROM:-0500
TZOFFSETTO:-0400
TZNAME:EDT
DTSTART:20220313T070000
END:DAYLIGHT
BEGIN:STANDARD
TZOFFSETFROM:-0400
TZOFFSETTO:-0500
TZNAME:EST
DTSTART:20221106T060000
END:STANDARD
BEGIN:DAYLIGHT
TZOFFSETFROM:-0500
TZOFFSETTO:-0400
TZNAME:EDT
DTSTART:20230312T070000
END:DAYLIGHT
BEGIN:STANDARD
TZOFFSETFROM:-0400
TZOFFSETTO:-0500
TZNAME:EST
DTSTART:20231105T060000
END:STANDARD
END:VTIMEZONE
BEGIN:VEVENT
DTSTART;TZID=America/New_York:20211231T190000
DTEND;TZID=America/New_York:20220101T013000
DTSTAMP:20260424T132245
CREATED:20211213T182610Z
LAST-MODIFIED:20211213T182610Z
UID:10000219-1640977200-1641000600@newrivergorgecvb.com
SUMMARY:New Years Eve With The Company Stores
DESCRIPTION:Ring in the new year with The Company Stores live at The Gaines Estate.  Begin the evening with a delicious dinner catered by Dobra Zupas.  Then dance the night away with one of Fayetteville’s favorite bands\, The Company Stores!  Drink specials\, late night appetizers and a champagne toast will be provided to keep the night going
URL:https://newrivergorgecvb.com/event/new-years-eve-with-the-company-stores/
LOCATION:The Gaines Estate\, 225 W. Maple\, Fayetteville\, WV\, 25840\, United States
END:VEVENT
BEGIN:VEVENT
DTSTART;TZID=America/New_York:20211231T190000
DTEND;TZID=America/New_York:20220101T013000
DTSTAMP:20260424T132245
CREATED:20211213T182756Z
LAST-MODIFIED:20211213T183225Z
UID:10000223-1640977200-1641000600@newrivergorgecvb.com
SUMMARY:ACE Adventure Resorts New Year's Eve Party
DESCRIPTION:Ring in 2022 with us at ACE Adventure Resort in the beautiful New River Gorge. Featuring live music from Magnolia Boulevard with Andrew Adkins and 1863 on the indoor stage. Appetizers and dinner options will be available and a champagne toast is included with your ticket purchase. Purchase your tickets in advance and save $5 off the door charge.\nCabin rentals are also available through ACE Adventure Resort. Unwind after a night of dancing in your own hot tub on the deck.\nStick around Saturday and support the New River Humane society by taking an icy plunge into ACE Lake. Our Polar Plunge is happening New Years Day @ high noon. $10 donation to the Humane Society gets you a spot in the lineup to take the plunge!
URL:https://newrivergorgecvb.com/event/ace-adventure-resorts-new-years-eve-party/
LOCATION:ACE Adventure Resort\, 1 Concho Road\, Oak Hill\, WV\, 25901\, United States
END:VEVENT
BEGIN:VEVENT
DTSTART;TZID=America/New_York:20220101T120000
DTEND;TZID=America/New_York:20220101T130000
DTSTAMP:20260424T132245
CREATED:20211213T185849Z
LAST-MODIFIED:20211213T185849Z
UID:10000056-1641038400-1641042000@newrivergorgecvb.com
SUMMARY:ACE Adventure Resort New Years Day Polar Plunge
DESCRIPTION:Are you looking for a great way to start off the New Year? What better way to start 2022 than taking a plunge into our Waterpark and donate to charity while you’re at it! ACE Adventure Resort is hosting a Polar Bear Plunge where all proceeds go towards the New River Humane Society.\nStick around Saturday and support the New River Humane society by taking an icy plunge into ACE Lake. Our Polar Plunge is happening New Years Day @ high noon. $10 donation to the New River Humane Society gets you a spot in the lineup to take the plunge!
URL:https://newrivergorgecvb.com/event/ace-adventure-resort-new-years-day-polar-plunge/
LOCATION:ACE Adventure Resort\, 1 Concho Road\, Oak Hill\, WV\, 25901\, United States
ORGANIZER;CN="ACE Adventure Resort":MAILTO:ace@aceraft.com
END:VEVENT
BEGIN:VEVENT
DTSTART;TZID=America/New_York:20220101T130000
DTEND;TZID=America/New_York:20220101T140000
DTSTAMP:20260424T132245
CREATED:20211213T185506Z
LAST-MODIFIED:20211213T185506Z
UID:10000054-1641042000-1641045600@newrivergorgecvb.com
SUMMARY:Visit Fayetteville WV's New Years Day Polar Swim
DESCRIPTION:The thrill of the chill! It’s bold to be cold! Join us as we dive into the New Year with a Polar Swim! The Fayette Station Polar Swim is an annual New Year’s Day tradition where locals gather to bring in the new year. All are welcome to join in at your own risk. Meet us at 12:45pm at Fayette Station to participate in the plunge at 1:00pm. Participants must sign a liability waiver to participate. Space is limited to 50 participants and participants must preregister. We encourage participants to car pool and use the upper lot at Fayette Station. Do not cross over the railroad tracks.
URL:https://newrivergorgecvb.com/event/visit-fayetteville-wvs-new-years-day-polar-swim/
LOCATION:Fayette Station
ORGANIZER;CN="Visit Fayetteville":MAILTO:info@VisitFayettevilleWV.com
END:VEVENT
BEGIN:VEVENT
DTSTART;TZID=America/New_York:20220119T080000
DTEND;TZID=America/New_York:20220119T170000
DTSTAMP:20260424T132245
CREATED:20220119T154335Z
LAST-MODIFIED:20220119T154335Z
UID:10000249-1642579200-1642611600@newrivergorgecvb.com
SUMMARY:ACE Adventure Resort:  Gritty Chix Mud Run
DESCRIPTION:Voted #1 Mud Run/Adventure Race in the Southeast and Mid-Atlantic\, in the 2020 Best of the Blue Ridge Readers’ Choice Awards by Blue Ridge Outdoors magazine! Gritty Chix Mud Run is back to ACE Adventure Resort this summer and we are ready to jump back into all that mud! You choose – the 5k Tenacious Trail or the Moxie Mile? Both woodland trails converge on the mud obstacle course. Obstacles have varying degrees of difficulty\, but all are manageable. Upper body strength is helpful and you have the option to bypass any obstacle you’re not comfortable tackling. Go for it before going around it – try to complete each one. It’s all about excitement\, laughter\, and camaraderie so we encourage applause\, hoots\, hollers\, and lending a helping hand. Water and first aid are stationed along the trails and at the finish line. Gritty Chix Mud Run always supports a great local cause too. Stay tuned for our benefactor announcement soon.
URL:https://newrivergorgecvb.com/event/ace-adventure-resort-gritty-chix-mud-run/
LOCATION:ACE Adventure Resort\, 1 Concho Road\, Oak Hill\, WV\, 25901\, United States
ATTACH;FMTTYPE=image/jpeg:https://newrivergorgecvb.com/wp-content/uploads/2022/01/gritty_chix_mud_run.jpg
ORGANIZER;CN="ACE Adventure Resort":MAILTO:ace@aceraft.com
END:VEVENT
BEGIN:VEVENT
DTSTART;TZID=America/New_York:20220122T180000
DTEND;TZID=America/New_York:20220122T210000
DTSTAMP:20260424T132245
CREATED:20220103T200442Z
LAST-MODIFIED:20220103T200442Z
UID:10000057-1642874400-1642885200@newrivergorgecvb.com
SUMMARY:Hawks Nest State Park Presents Mary Ingles Draper A Dramatic Presentation
DESCRIPTION:In 1755\, during the French and Indian War\, Ingles was a 23-year-old frontier wife living with her extended family at Drapers Meadow\, when a Shawnee war party attacked the settlement. Ingles\, her two sons and a sister-in-law were among the settlers captured. Ingles was separated from her boys and taken to a Shawnee settlement near the site of present-day Portsmouth\, OH\, and then on to Big Bone Lick in north-central Kentucky. There\, she and a captive from another settlement managed to escape\, and follow the Ohio\, Kanawha\, and New Rivers back to Drapers Meadow in a perilous 40-day trek. \n  \nOvernight packages available. \n  \nFor reservations call (304) 658-5212
URL:https://newrivergorgecvb.com/event/hawks-nest-state-park-presents-mary-ingles-draper-a-dramatic-presentation/
LOCATION:Hawks Nest State Park\, Ansted\, WV 25812\, USA\, Ansted\, WV\, 25812\, United States
GEO:38.1256635;-81.1071682
X-APPLE-STRUCTURED-LOCATION;VALUE=URI;X-ADDRESS=Hawks Nest State Park Ansted WV 25812 USA Ansted WV 25812 United States;X-APPLE-RADIUS=500;X-TITLE=Ansted\, WV 25812\, USA:geo:-81.1071682,38.1256635
END:VEVENT
BEGIN:VEVENT
DTSTART;TZID=America/New_York:20220129T170000
DTEND;TZID=America/New_York:20220129T200000
DTSTAMP:20260424T132245
CREATED:20220119T145920Z
LAST-MODIFIED:20220119T145920Z
UID:10000060-1643475600-1643486400@newrivergorgecvb.com
SUMMARY:ACE Adventure Resort:  Murder Mystery Dinner "The Ghost Of Windsor Manor"
DESCRIPTION:An eccentric spinster aunt\, to the dismay of her wealthy family\, hosts a party for her  friends even though her young nephew was discovered dead hanging from the balcony  railing that morning. A note was pinned to his body warning the family to leave the  manor at once! Apparently the Ghost of Windsor Manor has returned to wreck havoc on  the family! Join us for a night of murder\, mystery and dinner at ACE Adventure Resort.
URL:https://newrivergorgecvb.com/event/ace-adventure-resort-murder-mystery-dinner-the-ghost-of-windsor-manor/
LOCATION:The Lost Paddle\, 1 Concho Road\, Oak Hill\, WV\, 25901\, United States
ATTACH;FMTTYPE=image/jpeg:https://newrivergorgecvb.com/wp-content/uploads/2022/01/murder_mystery_windsor_manor.jpg
ORGANIZER;CN="ACE Adventure Resort":MAILTO:ace@aceraft.com
END:VEVENT
END:VCALENDAR