BEGIN:VCALENDAR
VERSION:2.0
PRODID:-//New River Gorge CVB - ECPv6.15.20//NONSGML v1.0//EN
CALSCALE:GREGORIAN
METHOD:PUBLISH
X-WR-CALNAME:New River Gorge CVB
X-ORIGINAL-URL:https://newrivergorgecvb.com
X-WR-CALDESC:Events for New River Gorge CVB
REFRESH-INTERVAL;VALUE=DURATION:PT1H
X-Robots-Tag:noindex
X-PUBLISHED-TTL:PT1H
BEGIN:VTIMEZONE
TZID:America/New_York
BEGIN:DAYLIGHT
TZOFFSETFROM:-0500
TZOFFSETTO:-0400
TZNAME:EDT
DTSTART:20230312T070000
END:DAYLIGHT
BEGIN:STANDARD
TZOFFSETFROM:-0400
TZOFFSETTO:-0500
TZNAME:EST
DTSTART:20231105T060000
END:STANDARD
BEGIN:DAYLIGHT
TZOFFSETFROM:-0500
TZOFFSETTO:-0400
TZNAME:EDT
DTSTART:20240310T070000
END:DAYLIGHT
BEGIN:STANDARD
TZOFFSETFROM:-0400
TZOFFSETTO:-0500
TZNAME:EST
DTSTART:20241103T060000
END:STANDARD
BEGIN:DAYLIGHT
TZOFFSETFROM:-0500
TZOFFSETTO:-0400
TZNAME:EDT
DTSTART:20250309T070000
END:DAYLIGHT
BEGIN:STANDARD
TZOFFSETFROM:-0400
TZOFFSETTO:-0500
TZNAME:EST
DTSTART:20251102T060000
END:STANDARD
END:VTIMEZONE
BEGIN:VEVENT
DTSTART;TZID=America/New_York:20241231T170000
DTEND;TZID=America/New_York:20241231T210000
DTSTAMP:20260422T192508
CREATED:20241212T180305Z
LAST-MODIFIED:20241212T180305Z
UID:10001546-1735664400-1735678800@newrivergorgecvb.com
SUMMARY:A Classic NYE Dinner at The Gaines Estate
DESCRIPTION:Join us once again for a classic New Year’s Eve dinner at The Gaines Estate! Reserve your table for a decadent dining experience. Get home before the ball drops or stay and enjoy the atmosphere of our beautifully designed lounge reminiscent of the prohibition era. First seating starts at 5pm. Reservations required 304-382-7509.
URL:https://newrivergorgecvb.com/event/a-classic-nye-dinner-at-the-gaines-estate/
LOCATION:The Gaines Estate\, 225 W. Maple\, Fayetteville\, WV\, 25840\, United States
END:VEVENT
BEGIN:VEVENT
DTSTART;TZID=America/New_York:20241231T180000
DTEND;TZID=America/New_York:20241231T203000
DTSTAMP:20260422T192508
CREATED:20241204T182812Z
LAST-MODIFIED:20241204T182812Z
UID:10001528-1735668000-1735677000@newrivergorgecvb.com
SUMMARY:Dine Into The new Year On The Gorge: A Smokey's Plated Dinner
DESCRIPTION:Celebrate New Year’s Eve with a Spectacular Dinner at Smokey’s!Ring in the New Year with a delightful plated dinner at Smokey’s. Reservations are available every 30 minutes from 6pm to 8pm. Please note that seating will be communal. If you wish to be seated with guests under a separate reservation\, kindly inform us in advance. Enjoy a carefully curated menu designed to make your evening special. See the full menu below for more details. After dining with us\, continue your New Year’s celebration at one of the many vibrant venues in town. We are looking forward to sharing this special evening with you!\n$69 per person\nMENU:Appetizers – Select One-Shrimp cocktailwith remoulade and cocktail sauceChicken kabobwith hoisin glaze on sesame salad with peanut ginger dressing\nSalads- Select One-Caeser Saladromaine\, parmesan cheese\, parmesan crisp\, croutons\,house-made Caesar dressingWinter saladseasonal lettuce mix with butternut squash\, goat cheese\, brown butter vinaigrette\, sliced red onions\, shaved almonds\nEntrées- Select One-Prime Ribwith red wine demi with red skin mashed potatoes androasted seasonal vegetablesNote: prime rib is cooked at a medium rare temperature. Please ask in advanceif another temperature is required.Chicken Rouladechicken wrapped in prosciutto\, mushrooms and fontina\, with red skin mashed potatoes and roasted asparagus with hollandaise sauceVegan/vegetarian chef choice available upon request.\nDessertDark chocolate tartfilled with raspberry cheesecake mousse
URL:https://newrivergorgecvb.com/event/dine-into-the-new-year-on-the-gorge-a-smokeys-plated-dinner/
LOCATION:Smokey's on The Gorge\, 1 Ames Heights Road\, Lansing\, WV 25862\, USA\, Lansing\, WV\, 25862\, United States
ORGANIZER;CN="Adventures on the Gorge":MAILTO:info@onthegorge.com
END:VEVENT
BEGIN:VEVENT
DTSTART;TZID=America/New_York:20241231T180000
DTEND;TZID=America/New_York:20241231T210000
DTSTAMP:20260422T192508
CREATED:20241115T200935Z
LAST-MODIFIED:20241115T201010Z
UID:10001518-1735668000-1735678800@newrivergorgecvb.com
SUMMARY:Fayette County Park Holiday Lights
DESCRIPTION:Come out to the Fayette County Park and check out the Christmas lights all through December.  Friday-Sunday from 6-10PM at $7 per car and Monday-Thursday 6-9PM at $5 per car.
URL:https://newrivergorgecvb.com/event/fayette-county-park-holiday-lights-2/2024-12-31/
LOCATION:Fayette County Park\, 2000 Boardwine Rd \, Fayetteville\, WV\, 25840
GEO:38.0528884;-81.1039911
X-APPLE-STRUCTURED-LOCATION;VALUE=URI;X-ADDRESS=Fayette County Park 2000 Boardwine Rd  Fayetteville WV 25840;X-APPLE-RADIUS=500;X-TITLE=2000 Boardwine Rd:geo:-81.1039911,38.0528884
END:VEVENT
END:VCALENDAR