BEGIN:VCALENDAR
VERSION:2.0
PRODID:-//New River Gorge CVB - ECPv6.15.20//NONSGML v1.0//EN
CALSCALE:GREGORIAN
METHOD:PUBLISH
X-WR-CALNAME:New River Gorge CVB
X-ORIGINAL-URL:https://newrivergorgecvb.com
X-WR-CALDESC:Events for New River Gorge CVB
REFRESH-INTERVAL;VALUE=DURATION:PT1H
X-Robots-Tag:noindex
X-PUBLISHED-TTL:PT1H
BEGIN:VTIMEZONE
TZID:America/New_York
BEGIN:DAYLIGHT
TZOFFSETFROM:-0500
TZOFFSETTO:-0400
TZNAME:EDT
DTSTART:20230312T070000
END:DAYLIGHT
BEGIN:STANDARD
TZOFFSETFROM:-0400
TZOFFSETTO:-0500
TZNAME:EST
DTSTART:20231105T060000
END:STANDARD
BEGIN:DAYLIGHT
TZOFFSETFROM:-0500
TZOFFSETTO:-0400
TZNAME:EDT
DTSTART:20240310T070000
END:DAYLIGHT
BEGIN:STANDARD
TZOFFSETFROM:-0400
TZOFFSETTO:-0500
TZNAME:EST
DTSTART:20241103T060000
END:STANDARD
BEGIN:DAYLIGHT
TZOFFSETFROM:-0500
TZOFFSETTO:-0400
TZNAME:EDT
DTSTART:20250309T070000
END:DAYLIGHT
BEGIN:STANDARD
TZOFFSETFROM:-0400
TZOFFSETTO:-0500
TZNAME:EST
DTSTART:20251102T060000
END:STANDARD
END:VTIMEZONE
BEGIN:VEVENT
DTSTART;TZID=America/New_York:20241213T180000
DTEND;TZID=America/New_York:20241213T220000
DTSTAMP:20260424T074113
CREATED:20241115T200706Z
LAST-MODIFIED:20241115T200755Z
UID:10001336-1734112800-1734127200@newrivergorgecvb.com
SUMMARY:Fayette County Park Holiday Lights
DESCRIPTION:Come out to the Fayette County Park and check out the Christmas lights all through December.  Friday-Sunday from 6-10PM at $7 per car and Monday-Thursday 6-9PM at $5 per car.
URL:https://newrivergorgecvb.com/event/fayette-county-park-holiday-lights/2024-12-13/
LOCATION:Fayette County Park\, 2000 Boardwine Rd \, Fayetteville\, WV\, 25840
GEO:38.0528884;-81.1039911
X-APPLE-STRUCTURED-LOCATION;VALUE=URI;X-ADDRESS=Fayette County Park 2000 Boardwine Rd  Fayetteville WV 25840;X-APPLE-RADIUS=500;X-TITLE=2000 Boardwine Rd:geo:-81.1039911,38.0528884
END:VEVENT
BEGIN:VEVENT
DTSTART;TZID=America/New_York:20241213T180000
DTEND;TZID=America/New_York:20241213T220000
DTSTAMP:20260424T074113
CREATED:20241121T185616Z
LAST-MODIFIED:20241121T185616Z
UID:10001525-1734112800-1734127200@newrivergorgecvb.com
SUMMARY:Hurricane Benefit Show
DESCRIPTION:Join us on December 13th for a night of music\, mutual aid and a last look at the crankies before they make their way to the National Library of Wales!\n\n\nWhat you give: any supplies from the second slide or a monetary donation to Hurricane Helene relief efforts\n\n\nWhat you get: a performance by local legends Bare Bones and perhaps some other musical guests \n\n\nGallery will be open at 6 with music to commence at 7!
URL:https://newrivergorgecvb.com/event/hurricane-benefit-show/
LOCATION:Love Hope Center For The Arts\, 100 Rotan Street\, Fayetteville\, WV\, 25840\, United States
END:VEVENT
BEGIN:VEVENT
DTSTART;TZID=America/New_York:20241213T190000
DTEND;TZID=America/New_York:20241213T210000
DTSTAMP:20260424T074113
CREATED:20241030T175942Z
LAST-MODIFIED:20241030T175942Z
UID:10000926-1734116400-1734123600@newrivergorgecvb.com
SUMMARY:A Charlie Brown Christmas
DESCRIPTION:The classic animated television special A Charlie Brown Christmas comes to life in this faithful stage adaptation in which Charlie Brown\, Snoopy and the rest of the Peanuts gang discover the true meaning of Christmas.
URL:https://newrivergorgecvb.com/event/a-charlie-brown-christmas/2024-12-13/
LOCATION:Historic Fayette Theater\, 115 South Court Street\, Fayetteville\, WV 25840\, USA\, Fayetteville\, WV\, 25840\, United States
END:VEVENT
END:VCALENDAR