BEGIN:VCALENDAR
VERSION:2.0
PRODID:-//New River Gorge CVB - ECPv6.15.20//NONSGML v1.0//EN
CALSCALE:GREGORIAN
METHOD:PUBLISH
X-WR-CALNAME:New River Gorge CVB
X-ORIGINAL-URL:https://newrivergorgecvb.com
X-WR-CALDESC:Events for New River Gorge CVB
REFRESH-INTERVAL;VALUE=DURATION:PT1H
X-Robots-Tag:noindex
X-PUBLISHED-TTL:PT1H
BEGIN:VTIMEZONE
TZID:America/New_York
BEGIN:DAYLIGHT
TZOFFSETFROM:-0500
TZOFFSETTO:-0400
TZNAME:EDT
DTSTART:20230312T070000
END:DAYLIGHT
BEGIN:STANDARD
TZOFFSETFROM:-0400
TZOFFSETTO:-0500
TZNAME:EST
DTSTART:20231105T060000
END:STANDARD
BEGIN:DAYLIGHT
TZOFFSETFROM:-0500
TZOFFSETTO:-0400
TZNAME:EDT
DTSTART:20240310T070000
END:DAYLIGHT
BEGIN:STANDARD
TZOFFSETFROM:-0400
TZOFFSETTO:-0500
TZNAME:EST
DTSTART:20241103T060000
END:STANDARD
BEGIN:DAYLIGHT
TZOFFSETFROM:-0500
TZOFFSETTO:-0400
TZNAME:EDT
DTSTART:20250309T070000
END:DAYLIGHT
BEGIN:STANDARD
TZOFFSETFROM:-0400
TZOFFSETTO:-0500
TZNAME:EST
DTSTART:20251102T060000
END:STANDARD
END:VTIMEZONE
BEGIN:VEVENT
DTSTART;TZID=America/New_York:20240704T100000
DTEND;TZID=America/New_York:20240706T220000
DTSTAMP:20260424T044856
CREATED:20240507T172347Z
LAST-MODIFIED:20240507T172347Z
UID:10000840-1720087200-1720303200@newrivergorgecvb.com
SUMMARY:Fayetteville's Heritage Festival and 4th of July Celebration
DESCRIPTION:merica’s birthday in America’s coolest small town! We invite you and your family to join our community in celebration. Escape the hustle and bustle and experience the charming allure of small-town America this 4th of July in Fayetteville. Fayetteville’s Heritage Festival and 4th of July celebration will take place July 4th-6th. This event features fun activities for the whole family\, including a 4th of July Parade\, fireworks\, carnival\, live music\, and more! One of the highlights of the celebration is the 4th of July Parade\, where you will see an explosion of patriotism with decked-out floats. Bring your pet and enter the patriotic pat contest or join in an old-fashioned cake walk. Stroll down our quaint streets\, lined with unique shops\, local eateries\, and friendly faces. Immerse yourself in our rich heritage at the Fayetteville Heritage Festival\, where you can enjoy local crafts\, delicious food\, and exciting games. Dance the night away to live music and join the lively street dance. We will be hosting our second annual hotdog eating contest this year. The festivities will be capped off by a fireworks extravaganza at the Fayetteville Town Park.
URL:https://newrivergorgecvb.com/event/fayettevilles-heritage-festival-and-4th-of-july-celebration/
LOCATION:Town of Fayetteville\, Fayetteville\, WV\, 25870\, United States
ORGANIZER;CN="Visit Fayetteville":MAILTO:info@VisitFayettevilleWV.com
END:VEVENT
BEGIN:VEVENT
DTSTART;TZID=America/New_York:20240706T100000
DTEND;TZID=America/New_York:20240706T170000
DTSTAMP:20260424T044856
CREATED:20240408T174335Z
LAST-MODIFIED:20240408T174335Z
UID:10000800-1720260000-1720285200@newrivergorgecvb.com
SUMMARY:Star Spangled Races at Wolf Creek Trails 5K & 15K Run
DESCRIPTION:Embark on an exhilarating race through the stunning landscapes of Wolf Creek Trails in Fayetteville\, WV. We invite you to the Star Spangled Races at Wolf Creek Trails 5K and 15K Run powered by Active SWV Races. Kicking off at Bridge Brew Works\, these races offer a blend of challenge and excitement as you navigate through a lush-wooded area and rolling trails.\nRace webpage: https://activeswv.org/star-spangled-races-at-wolf-creek…/\nRace registration with RunSignUp: https://runsignup.com/…/RedWhiteandBrew5K15KRunningTrai…\nVolunteer sign up: https://docs.google.com/…/1FAIpQLSfm3iDiKBbews…/viewform
URL:https://newrivergorgecvb.com/event/star-spangled-races-at-wolf-creek-trails-5k-15k-run/
LOCATION:Bridge Brew Works\, 335 Nick Rahall Greenway\, Fayetteville\, WV\, 25840\, United States
END:VEVENT
BEGIN:VEVENT
DTSTART;TZID=America/New_York:20240706T100000
DTEND;TZID=America/New_York:20240706T170000
DTSTAMP:20260424T044856
CREATED:20240606T143339Z
LAST-MODIFIED:20240606T143339Z
UID:10000872-1720260000-1720285200@newrivergorgecvb.com
SUMMARY:Arrowhead Bike Farm Trials and Tracks Competition
DESCRIPTION:This will be a day filled with fun activities on bikes for the whole family! Throughout the day we will have pump track races\, games and challenges on bikes for all ages and skill levels and of course\, a Trials Bike Competition featuring riders from all over the country! In the Trials competition we will have categories from Just for fun to advanced. We encourage folks to bring whatever bike they have and put their skills to the test!
URL:https://newrivergorgecvb.com/event/arrowhead-bike-farm-trials-and-tracks-competition/
LOCATION:Arrowhead Bike Farm\, 8263 Gatewood Rd\, Fayetteville\, WV\, 25840\, United States
END:VEVENT
BEGIN:VEVENT
DTSTART;TZID=America/New_York:20240706T193000
DTEND;TZID=America/New_York:20240706T230000
DTSTAMP:20260424T044856
CREATED:20240501T150159Z
LAST-MODIFIED:20240501T150159Z
UID:10000811-1720294200-1720306800@newrivergorgecvb.com
SUMMARY:Andrew Scotchie-Groove In The Gorge Music Series
DESCRIPTION:An evening with Andrew Scotchie playing sweet music to rock your soul under the stars in the “heartbeat” of the New River Gorge National Park.
URL:https://newrivergorgecvb.com/event/andrew-scotchie-groove-in-the-gorge-music-series/
LOCATION:The Outpost\, 843 Fayette Station Road\, Fayetteville\, WV\, 25840\, United States
END:VEVENT
END:VCALENDAR