BEGIN:VCALENDAR
VERSION:2.0
PRODID:-//New River Gorge CVB - ECPv6.15.17.1//NONSGML v1.0//EN
CALSCALE:GREGORIAN
METHOD:PUBLISH
X-ORIGINAL-URL:https://newrivergorgecvb.com
X-WR-CALDESC:Events for New River Gorge CVB
REFRESH-INTERVAL;VALUE=DURATION:PT1H
X-Robots-Tag:noindex
X-PUBLISHED-TTL:PT1H
BEGIN:VTIMEZONE
TZID:America/New_York
BEGIN:DAYLIGHT
TZOFFSETFROM:-0500
TZOFFSETTO:-0400
TZNAME:EDT
DTSTART:20220313T070000
END:DAYLIGHT
BEGIN:STANDARD
TZOFFSETFROM:-0400
TZOFFSETTO:-0500
TZNAME:EST
DTSTART:20221106T060000
END:STANDARD
BEGIN:DAYLIGHT
TZOFFSETFROM:-0500
TZOFFSETTO:-0400
TZNAME:EDT
DTSTART:20230312T070000
END:DAYLIGHT
BEGIN:STANDARD
TZOFFSETFROM:-0400
TZOFFSETTO:-0500
TZNAME:EST
DTSTART:20231105T060000
END:STANDARD
BEGIN:DAYLIGHT
TZOFFSETFROM:-0500
TZOFFSETTO:-0400
TZNAME:EDT
DTSTART:20240310T070000
END:DAYLIGHT
BEGIN:STANDARD
TZOFFSETFROM:-0400
TZOFFSETTO:-0500
TZNAME:EST
DTSTART:20241103T060000
END:STANDARD
END:VTIMEZONE
BEGIN:VEVENT
DTSTART;TZID=America/New_York:20231208T170000
DTEND;TZID=America/New_York:20231208T200000
DTSTAMP:20260419T192821
CREATED:20231205T213631Z
LAST-MODIFIED:20231205T213631Z
UID:10000656-1702054800-1702065600@newrivergorgecvb.com
SUMMARY:Fayetteville's Holiday Stroll
DESCRIPTION:Fayetteville’s Holiday stroll is back\, join us for this festive and charming occasion that brings the community together to celebrate the holiday season in a unique and local way. This event takes place in the historic downtown area\, creating a warm and inviting atmosphere for residents and visitors alike.\nAs you stroll through the quaint streets of downtown Fayetteville during the Holiday Stroll\, you’ll find the local shops adorned with festive decorations\, creating a picturesque backdrop for holiday shopping. Support your favorite Fayetteville shops\, particularly the unique shops that offer a wide array of handmade and locally sourced products. Enjoy one-of-a-kind crafts\, artisanal goods\, and other special items that make for perfect holiday gifts.\nLocal artists and craftsmen add to the charm of the event by setting up in businesses through town. They showcase their talents and offer a variety of handmade gifts\, providing a wonderful opportunity for attendees to discover and purchase truly special items.\nThe Holiday Stroll doesn’t just cater to shopping enthusiasts; it’s also a culinary delight. Local eateries participate in the event\, offering delicious seasonal treats and warm beverages to keep attendees fueled and in good spirits. Whether you’re craving a festive pastry\, a cup of hot cocoa\, or a savory snack\, the local eateries contribute to the overall festive ambiance and provide a chance to savor the flavors of the season.\nThroughout the event\, the historic downtown area comes alive with holiday music and twinkling lights. The Holiday Stroll is an experience that captures the true spirit of the season and encourages a sense of community and support for local businesses.\nStay tuned for updates for participating shops and artists.\nWater Stone Outdoors\nTwisted Gypsy’s\nThread\nLost Appalachia Trading Company\nStudio B Art & Wine Gallery\n\n\nHoliday Stroll Raffle\nPick up a raffle ticket for the holiday stroll\, make 3 purchases from participating businesses on the shopping loop and you can turn in your card to earn awesome prizes from your favorite Fayetteville shops! Stay tuned for more card details.
URL:https://newrivergorgecvb.com/event/fayettevilles-holiday-stroll/
LOCATION:Downtown Fayetteville\, WV\, Fayetteville\, WV\, 25840\, United States
ORGANIZER;CN="Visit Fayetteville":MAILTO:info@VisitFayettevilleWV.com
END:VEVENT
BEGIN:VEVENT
DTSTART;TZID=America/New_York:20231208T170000
DTEND;TZID=America/New_York:20231208T200000
DTSTAMP:20260419T192821
CREATED:20231205T215106Z
LAST-MODIFIED:20231205T215106Z
UID:10000660-1702054800-1702065600@newrivergorgecvb.com
SUMMARY:A Holly Jolly Grinchmas
DESCRIPTION:Come enjoy dinner with the Grinch!\nCrafts\, Games\, pictures\, toys and much more!\nPrizes awarded for the best “Who” costume\nAdmission is non persihable food or pet foos/litter for local shelters.\nFood is provided to the first 500 kids courtesy of Oak Hill and Beaver McDonalds
URL:https://newrivergorgecvb.com/event/a-holly-jolly-grinchmas/
LOCATION:West Virginia Army National Guard Recruiting and Retention\, 501 Wood Mountain Road\, Glen Jean\, WV\, 25846
END:VEVENT
END:VCALENDAR