BEGIN:VCALENDAR
VERSION:2.0
PRODID:-//New River Gorge CVB - ECPv6.15.17.1//NONSGML v1.0//EN
CALSCALE:GREGORIAN
METHOD:PUBLISH
X-ORIGINAL-URL:https://newrivergorgecvb.com
X-WR-CALDESC:Events for New River Gorge CVB
REFRESH-INTERVAL;VALUE=DURATION:PT1H
X-Robots-Tag:noindex
X-PUBLISHED-TTL:PT1H
BEGIN:VTIMEZONE
TZID:America/New_York
BEGIN:DAYLIGHT
TZOFFSETFROM:-0500
TZOFFSETTO:-0400
TZNAME:EDT
DTSTART:20220313T070000
END:DAYLIGHT
BEGIN:STANDARD
TZOFFSETFROM:-0400
TZOFFSETTO:-0500
TZNAME:EST
DTSTART:20221106T060000
END:STANDARD
BEGIN:DAYLIGHT
TZOFFSETFROM:-0500
TZOFFSETTO:-0400
TZNAME:EDT
DTSTART:20230312T070000
END:DAYLIGHT
BEGIN:STANDARD
TZOFFSETFROM:-0400
TZOFFSETTO:-0500
TZNAME:EST
DTSTART:20231105T060000
END:STANDARD
BEGIN:DAYLIGHT
TZOFFSETFROM:-0500
TZOFFSETTO:-0400
TZNAME:EDT
DTSTART:20240310T070000
END:DAYLIGHT
BEGIN:STANDARD
TZOFFSETFROM:-0400
TZOFFSETTO:-0500
TZNAME:EST
DTSTART:20241103T060000
END:STANDARD
END:VTIMEZONE
BEGIN:VEVENT
DTSTART;VALUE=DATE:20230615
DTEND;VALUE=DATE:20230619
DTSTAMP:20260419T105218
CREATED:20230425T203830Z
LAST-MODIFIED:20230425T203830Z
UID:10000524-1686787200-1687132799@newrivergorgecvb.com
SUMMARY:Yoga and Climbing Retreat
DESCRIPTION:Join us for three nights & two days of rock climbing and yoga in the new River Gorge National Park. Yoga sessions will be led by Erin Larsen and rock climbing instruction by Elaina Arenz and New River Mountain Guides.\nErin and Elaina have been working together for over 10 years to provide you with the best experiences. Yoga and climbing complement each other and will help improve your range of motion\, flexibility\, strength\, balance\, and mindfulness\, on and off of the rock. The New River Gorge is the perfect setting to bring these two activities into one unforgettable experience.
URL:https://newrivergorgecvb.com/event/yoga-and-climbing-retreat/
LOCATION:Opossum Creek Retreat\, 239 Opossum Creek Retreat Road\, Victor\, WV\, 25938\, United States
END:VEVENT
BEGIN:VEVENT
DTSTART;TZID=America/New_York:20230615T180000
DTEND;TZID=America/New_York:20230615T200000
DTSTAMP:20260419T105218
CREATED:20230530T145307Z
LAST-MODIFIED:20230530T145307Z
UID:10000534-1686852000-1686859200@newrivergorgecvb.com
SUMMARY:Youth Paint Night In The Park - Fayette County Park
DESCRIPTION:Join us for a fun paint night for kids ages 7-11 at Fayette County Park in Shelter 1. Kids will learn about art concepts in a fun and supportive environment. $30 includes all materials and step-by-step instruction on a 16×20 inch canvas. Space is limited so register early! Parents are invited to stick around or will need to fill out an emergency contact waiver before dropping off child so please arrive 15 minutes early. We will be using acrylic paint so please dress child in clothing that may accidentally get paint on it. This will be a FUN night of painting and music for the kids!
URL:https://newrivergorgecvb.com/event/youth-paint-night-in-the-park-fayette-county-park/
LOCATION:Fayette County Park\, 2000 Boardwine Rd \, Fayetteville\, WV\, 25840
ATTACH;FMTTYPE=image/jpeg:https://newrivergorgecvb.com/wp-content/uploads/2023/05/June-Paint-Park-e1685458368941.jpg
ORGANIZER;CN="Wild & Wonderful Paint Parties":MAILTO:info@wildandwonderfulpaintparties.com
GEO:38.0528884;-81.1039911
X-APPLE-STRUCTURED-LOCATION;VALUE=URI;X-ADDRESS=Fayette County Park 2000 Boardwine Rd  Fayetteville WV 25840;X-APPLE-RADIUS=500;X-TITLE=2000 Boardwine Rd:geo:-81.1039911,38.0528884
END:VEVENT
END:VCALENDAR