BEGIN:VCALENDAR
VERSION:2.0
PRODID:-//New River Gorge CVB - ECPv6.15.20//NONSGML v1.0//EN
CALSCALE:GREGORIAN
METHOD:PUBLISH
X-WR-CALNAME:New River Gorge CVB
X-ORIGINAL-URL:https://newrivergorgecvb.com
X-WR-CALDESC:Events for New River Gorge CVB
REFRESH-INTERVAL;VALUE=DURATION:PT1H
X-Robots-Tag:noindex
X-PUBLISHED-TTL:PT1H
BEGIN:VTIMEZONE
TZID:America/New_York
BEGIN:DAYLIGHT
TZOFFSETFROM:-0500
TZOFFSETTO:-0400
TZNAME:EDT
DTSTART:20230312T070000
END:DAYLIGHT
BEGIN:STANDARD
TZOFFSETFROM:-0400
TZOFFSETTO:-0500
TZNAME:EST
DTSTART:20231105T060000
END:STANDARD
BEGIN:DAYLIGHT
TZOFFSETFROM:-0500
TZOFFSETTO:-0400
TZNAME:EDT
DTSTART:20240310T070000
END:DAYLIGHT
BEGIN:STANDARD
TZOFFSETFROM:-0400
TZOFFSETTO:-0500
TZNAME:EST
DTSTART:20241103T060000
END:STANDARD
BEGIN:DAYLIGHT
TZOFFSETFROM:-0500
TZOFFSETTO:-0400
TZNAME:EDT
DTSTART:20250309T070000
END:DAYLIGHT
BEGIN:STANDARD
TZOFFSETFROM:-0400
TZOFFSETTO:-0500
TZNAME:EST
DTSTART:20251102T060000
END:STANDARD
END:VTIMEZONE
BEGIN:VEVENT
DTSTART;TZID=America/New_York:20241108T180000
DTEND;TZID=America/New_York:20241110T140000
DTSTAMP:20260423T043726
CREATED:20241025T183629Z
LAST-MODIFIED:20241025T183629Z
UID:31059-1731088800-1731247200@newrivergorgecvb.com
SUMMARY:Yoga as Medicine Immersion
DESCRIPTION:Ancient yogic practices are medicine for the mind\, body & soul. There is an emerging wealth of modern scientific studies that demonstrate how these ancient practices are techniques to improve overall health and increase vitality. This immersion will focus on the experience of the practices\, and the benefits of practicing in community as a form of play & as well as a discussion of how the science of healthy living aligns with ancient yoga philosophy. This will be a fun\, lighthearted weekend with a wide variety of practices that produce health and vitality.\nCEUs 14 hours\nWith Randy Boyd E-RYT 500\, Certified Yoga Therapist IAYT\, Certified Yoga for Bone Health.\nCost: If paid by November 1st | $265 | After November 1st | $300\nIndividual day sessions registration opens October 18 if space allows.
URL:https://newrivergorgecvb.com/event/yoga-as-medicine-immersion/
LOCATION:Opossum Creek Retreat\, 239 Opossum Creek Retreat Road\, Victor\, WV\, 25938\, United States
END:VEVENT
END:VCALENDAR