BEGIN:VCALENDAR
VERSION:2.0
PRODID:-//New River Gorge CVB - ECPv6.15.20//NONSGML v1.0//EN
CALSCALE:GREGORIAN
METHOD:PUBLISH
X-WR-CALNAME:New River Gorge CVB
X-ORIGINAL-URL:https://newrivergorgecvb.com
X-WR-CALDESC:Events for New River Gorge CVB
REFRESH-INTERVAL;VALUE=DURATION:PT1H
X-Robots-Tag:noindex
X-PUBLISHED-TTL:PT1H
BEGIN:VTIMEZONE
TZID:America/New_York
BEGIN:DAYLIGHT
TZOFFSETFROM:-0500
TZOFFSETTO:-0400
TZNAME:EDT
DTSTART:20230312T070000
END:DAYLIGHT
BEGIN:STANDARD
TZOFFSETFROM:-0400
TZOFFSETTO:-0500
TZNAME:EST
DTSTART:20231105T060000
END:STANDARD
BEGIN:DAYLIGHT
TZOFFSETFROM:-0500
TZOFFSETTO:-0400
TZNAME:EDT
DTSTART:20240310T070000
END:DAYLIGHT
BEGIN:STANDARD
TZOFFSETFROM:-0400
TZOFFSETTO:-0500
TZNAME:EST
DTSTART:20241103T060000
END:STANDARD
BEGIN:DAYLIGHT
TZOFFSETFROM:-0500
TZOFFSETTO:-0400
TZNAME:EDT
DTSTART:20250309T070000
END:DAYLIGHT
BEGIN:STANDARD
TZOFFSETFROM:-0400
TZOFFSETTO:-0500
TZNAME:EST
DTSTART:20251102T060000
END:STANDARD
END:VTIMEZONE
BEGIN:VEVENT
DTSTART;TZID=America/New_York:20240217T171500
DTEND;TZID=America/New_York:20240217T210000
DTSTAMP:20260420T115935
CREATED:20240109T190146Z
LAST-MODIFIED:20240109T190146Z
UID:26210-1708190100-1708203600@newrivergorgecvb.com
SUMMARY:Valentine's Dinner on the Gorge
DESCRIPTION:Celebrate your Valentine with a decadent four-course meal at Smokey’s on the Gorge. Enjoy a complimentary glass of champagne upon arrival.\nDoors will open at 5:15pm and dinner will begin at 5:30pm.\nEntertainment will be provided by Charleston-based gypsy jazz group Minor Swing from 5:30pm to 8:00pm.\nA full bar\, including specialty cocktails & mocktails\, beer\, wine\, and spirits will be available.\nMENU\nAmuse: Chocolate-covered strawberry to be served at the table upon arrival\nAppetizers: Steamed littleneck clams in a garlic butter sauce and herbed garlic crostini\nOR\nOysters on the half shell served with mignonette sauce\nStarter: Chopped romaine and arugula mixed salad with avocado\, pomegranate\, pistachio\, and honey vinaigrette\nOR\nTomato and lentil soup with truffle oil and spiced cream\nEntree: Classic Beef Wellington served with roasted broccolini\, whipped redskin\, mashed potatoes\, and demi-glace\nOR\nAlaskan halibut en papillote with baby red potatoes\, shucked corn\, and tomato butter sauce\nDessert: Red velvet cake topped with raspberry whipped cream and warm chocolate glaze
URL:https://newrivergorgecvb.com/event/valentines-dinner-on-the-gorge/
LOCATION:Adventures On The Gorge\, 219 Chestnutburg Road\, Lansing\, WV\, 25862\, United States
ATTACH;FMTTYPE=image/jpeg:https://newrivergorgecvb.com/wp-content/uploads/2024/01/AOTG.jpg
ORGANIZER;CN="Adventures on the Gorge":MAILTO:info@onthegorge.com
END:VEVENT
END:VCALENDAR