BEGIN:VCALENDAR
VERSION:2.0
PRODID:-//New River Gorge CVB - ECPv6.15.20//NONSGML v1.0//EN
CALSCALE:GREGORIAN
METHOD:PUBLISH
X-WR-CALNAME:New River Gorge CVB
X-ORIGINAL-URL:https://newrivergorgecvb.com
X-WR-CALDESC:Events for New River Gorge CVB
REFRESH-INTERVAL;VALUE=DURATION:PT1H
X-Robots-Tag:noindex
X-PUBLISHED-TTL:PT1H
BEGIN:VTIMEZONE
TZID:America/New_York
BEGIN:DAYLIGHT
TZOFFSETFROM:-0500
TZOFFSETTO:-0400
TZNAME:EDT
DTSTART:20220313T070000
END:DAYLIGHT
BEGIN:STANDARD
TZOFFSETFROM:-0400
TZOFFSETTO:-0500
TZNAME:EST
DTSTART:20221106T060000
END:STANDARD
BEGIN:DAYLIGHT
TZOFFSETFROM:-0500
TZOFFSETTO:-0400
TZNAME:EDT
DTSTART:20230312T070000
END:DAYLIGHT
BEGIN:STANDARD
TZOFFSETFROM:-0400
TZOFFSETTO:-0500
TZNAME:EST
DTSTART:20231105T060000
END:STANDARD
BEGIN:DAYLIGHT
TZOFFSETFROM:-0500
TZOFFSETTO:-0400
TZNAME:EDT
DTSTART:20240310T070000
END:DAYLIGHT
BEGIN:STANDARD
TZOFFSETFROM:-0400
TZOFFSETTO:-0500
TZNAME:EST
DTSTART:20241103T060000
END:STANDARD
END:VTIMEZONE
BEGIN:VEVENT
DTSTART;TZID=America/New_York:20230902T150000
DTEND;TZID=America/New_York:20230902T170000
DTSTAMP:20260422T120638
CREATED:20230815T142917Z
LAST-MODIFIED:20230815T142917Z
UID:24352-1693666800-1693674000@newrivergorgecvb.com
SUMMARY:Moon Wreath
DESCRIPTION:Making moon wreaths\n$20.00 per person\nAll items provided\nReservations required by August 20\, 2023\nNo refunds unless canceled by event coordinator
URL:https://newrivergorgecvb.com/event/moon-wreath/
LOCATION:Heart to Hands: The Serendipity Shop\, 405 Main Street\, Mt. Hope\, WV\, 25880\, United States
END:VEVENT
END:VCALENDAR