BEGIN:VCALENDAR
VERSION:2.0
PRODID:-//New River Gorge CVB - ECPv6.15.20//NONSGML v1.0//EN
CALSCALE:GREGORIAN
METHOD:PUBLISH
X-WR-CALNAME:New River Gorge CVB
X-ORIGINAL-URL:https://newrivergorgecvb.com
X-WR-CALDESC:Events for New River Gorge CVB
REFRESH-INTERVAL;VALUE=DURATION:PT1H
X-Robots-Tag:noindex
X-PUBLISHED-TTL:PT1H
BEGIN:VTIMEZONE
TZID:America/New_York
BEGIN:DAYLIGHT
TZOFFSETFROM:-0500
TZOFFSETTO:-0400
TZNAME:EDT
DTSTART:20230312T070000
END:DAYLIGHT
BEGIN:STANDARD
TZOFFSETFROM:-0400
TZOFFSETTO:-0500
TZNAME:EST
DTSTART:20231105T060000
END:STANDARD
BEGIN:DAYLIGHT
TZOFFSETFROM:-0500
TZOFFSETTO:-0400
TZNAME:EDT
DTSTART:20240310T070000
END:DAYLIGHT
BEGIN:STANDARD
TZOFFSETFROM:-0400
TZOFFSETTO:-0500
TZNAME:EST
DTSTART:20241103T060000
END:STANDARD
BEGIN:DAYLIGHT
TZOFFSETFROM:-0500
TZOFFSETTO:-0400
TZNAME:EDT
DTSTART:20250309T070000
END:DAYLIGHT
BEGIN:STANDARD
TZOFFSETFROM:-0400
TZOFFSETTO:-0500
TZNAME:EST
DTSTART:20251102T060000
END:STANDARD
END:VTIMEZONE
BEGIN:VEVENT
DTSTART;TZID=America/New_York:20240727T193000
DTEND;TZID=America/New_York:20240727T230000
DTSTAMP:20260421T102353
CREATED:20240501T150849Z
LAST-MODIFIED:20240501T150849Z
UID:27448-1722108600-1722121200@newrivergorgecvb.com
SUMMARY:Groove In The Gorge-Joe Hertler & The Rainbow Seekers
DESCRIPTION:An evening of live music with Joe Hertler & the Rainbow Seekers. Come for a magical evening of beautiful vibes in the air\, camping\, food trucks\, local brews\, art vendors\, massage therapy and smiles all around.
URL:https://newrivergorgecvb.com/event/groove-in-the-gorge-joe-hertler-the-rainbow-seekers/
LOCATION:The Outpost\, 843 Fayette Station Road\, Fayetteville\, WV\, 25840\, United States
END:VEVENT
END:VCALENDAR