BEGIN:VCALENDAR
VERSION:2.0
PRODID:-//New River Gorge CVB - ECPv6.15.20//NONSGML v1.0//EN
CALSCALE:GREGORIAN
METHOD:PUBLISH
X-WR-CALNAME:New River Gorge CVB
X-ORIGINAL-URL:https://newrivergorgecvb.com
X-WR-CALDESC:Events for New River Gorge CVB
REFRESH-INTERVAL;VALUE=DURATION:PT1H
X-Robots-Tag:noindex
X-PUBLISHED-TTL:PT1H
BEGIN:VTIMEZONE
TZID:America/New_York
BEGIN:DAYLIGHT
TZOFFSETFROM:-0500
TZOFFSETTO:-0400
TZNAME:EDT
DTSTART:20250309T070000
END:DAYLIGHT
BEGIN:STANDARD
TZOFFSETFROM:-0400
TZOFFSETTO:-0500
TZNAME:EST
DTSTART:20251102T060000
END:STANDARD
BEGIN:DAYLIGHT
TZOFFSETFROM:-0500
TZOFFSETTO:-0400
TZNAME:EDT
DTSTART:20260308T070000
END:DAYLIGHT
BEGIN:STANDARD
TZOFFSETFROM:-0400
TZOFFSETTO:-0500
TZNAME:EST
DTSTART:20261101T060000
END:STANDARD
BEGIN:DAYLIGHT
TZOFFSETFROM:-0500
TZOFFSETTO:-0400
TZNAME:EDT
DTSTART:20270314T070000
END:DAYLIGHT
BEGIN:STANDARD
TZOFFSETFROM:-0400
TZOFFSETTO:-0500
TZNAME:EST
DTSTART:20271107T060000
END:STANDARD
END:VTIMEZONE
BEGIN:VEVENT
DTSTART;VALUE=DATE:20260307
DTEND;VALUE=DATE:20260309
DTSTAMP:20260420T153704
CREATED:20260114T151028Z
LAST-MODIFIED:20260302T141904Z
UID:59559-1772841600-1773014399@newrivergorgecvb.com
SUMMARY:Fayetteville's Cryptid Weekend
DESCRIPTION:Fayetteville is going full folklore for Fayetteville’s Cryptid Weekend\, March 7–8\, 2026! Venture into town and the surrounding trails as some of West Virginia’s most legendary cryptids emerge from the shadows.\nSpot familiar Appalachian legends like Bigfoot and Mothman roaming downtown\, popping up along trails\, and making surprise appearances throughout the weekend. Bring your camera and see if you can capture cryptids “in the wild” — wandering through town\, lurking near trailheads\, or blending into everyday Fayetteville life.\nThe weekend kicks off on Saturday\, March 7\, with the opening of a Cryptid Art Exhibition at the Love Hope Center for the Arts\, featuring regional artists inspired by folklore\, myth\, and Appalachian legends.\nThroughout the weekend\, enjoy a Cryptid-themed Art Walk through your favorite Fayetteville businesses\, with special stops\, themed displays\, and surprises along the way. Shops\, galleries\, and community spaces will embrace the strange and unusual as downtown transforms into a playful celebration of West Virginia’s most mysterious creatures.\nWhether you’re a folklore fan\, an art lover\, a photographer\, or just curious about what goes bump in the woods — Cryptid Weekend is your chance to explore Fayetteville from a whole new perspective.
URL:https://newrivergorgecvb.com/event/fayettevlles-cryptid-weekend/
LOCATION:Downtown Fayetteville\, WV\, Fayetteville\, WV\, 25840\, United States
ORGANIZER;CN="Visit Fayetteville":MAILTO:info@VisitFayettevilleWV.com
END:VEVENT
END:VCALENDAR