BEGIN:VCALENDAR
VERSION:2.0
PRODID:-//New River Gorge CVB - ECPv6.15.20//NONSGML v1.0//EN
CALSCALE:GREGORIAN
METHOD:PUBLISH
X-WR-CALNAME:New River Gorge CVB
X-ORIGINAL-URL:https://newrivergorgecvb.com
X-WR-CALDESC:Events for New River Gorge CVB
REFRESH-INTERVAL;VALUE=DURATION:PT1H
X-Robots-Tag:noindex
X-PUBLISHED-TTL:PT1H
BEGIN:VTIMEZONE
TZID:America/New_York
BEGIN:DAYLIGHT
TZOFFSETFROM:-0500
TZOFFSETTO:-0400
TZNAME:EDT
DTSTART:20220313T070000
END:DAYLIGHT
BEGIN:STANDARD
TZOFFSETFROM:-0400
TZOFFSETTO:-0500
TZNAME:EST
DTSTART:20221106T060000
END:STANDARD
BEGIN:DAYLIGHT
TZOFFSETFROM:-0500
TZOFFSETTO:-0400
TZNAME:EDT
DTSTART:20230312T070000
END:DAYLIGHT
BEGIN:STANDARD
TZOFFSETFROM:-0400
TZOFFSETTO:-0500
TZNAME:EST
DTSTART:20231105T060000
END:STANDARD
BEGIN:DAYLIGHT
TZOFFSETFROM:-0500
TZOFFSETTO:-0400
TZNAME:EDT
DTSTART:20240310T070000
END:DAYLIGHT
BEGIN:STANDARD
TZOFFSETFROM:-0400
TZOFFSETTO:-0500
TZNAME:EST
DTSTART:20241103T060000
END:STANDARD
END:VTIMEZONE
BEGIN:VEVENT
DTSTART;TZID=America/New_York:20230225T180000
DTEND;TZID=America/New_York:20230225T220000
DTSTAMP:20260420T140220
CREATED:20230103T165009Z
LAST-MODIFIED:20230103T165026Z
UID:21214-1677348000-1677362400@newrivergorgecvb.com
SUMMARY:Country Night with Appalachian Outlaws
DESCRIPTION:Put on your jeans\, grab your cowboy hat and get ready for a boot stompin’ good time! Appalachian Outlaws is bringing their honky tonk band to The Lost Paddle Stage February 25th for country night. PLUS we will have a mechanical bull setup inside the Lost Paddle. See if you can hold on for 8 seconds!
URL:https://newrivergorgecvb.com/event/country-night-with-appalachian-outlaws/
LOCATION:The Lost Paddle\, 1 Concho Road\, Oak Hill\, WV\, 25901\, United States
ORGANIZER;CN="ACE Adventure Resort":MAILTO:ace@aceraft.com
END:VEVENT
END:VCALENDAR