BEGIN:VCALENDAR
VERSION:2.0
PRODID:-//New River Gorge CVB - ECPv6.15.20//NONSGML v1.0//EN
CALSCALE:GREGORIAN
METHOD:PUBLISH
X-WR-CALNAME:New River Gorge CVB
X-ORIGINAL-URL:https://newrivergorgecvb.com
X-WR-CALDESC:Events for New River Gorge CVB
REFRESH-INTERVAL;VALUE=DURATION:PT1H
X-Robots-Tag:noindex
X-PUBLISHED-TTL:PT1H
BEGIN:VTIMEZONE
TZID:America/New_York
BEGIN:DAYLIGHT
TZOFFSETFROM:-0500
TZOFFSETTO:-0400
TZNAME:EDT
DTSTART:20240310T070000
END:DAYLIGHT
BEGIN:STANDARD
TZOFFSETFROM:-0400
TZOFFSETTO:-0500
TZNAME:EST
DTSTART:20241103T060000
END:STANDARD
BEGIN:DAYLIGHT
TZOFFSETFROM:-0500
TZOFFSETTO:-0400
TZNAME:EDT
DTSTART:20250309T070000
END:DAYLIGHT
BEGIN:STANDARD
TZOFFSETFROM:-0400
TZOFFSETTO:-0500
TZNAME:EST
DTSTART:20251102T060000
END:STANDARD
BEGIN:DAYLIGHT
TZOFFSETFROM:-0500
TZOFFSETTO:-0400
TZNAME:EDT
DTSTART:20260308T070000
END:DAYLIGHT
BEGIN:STANDARD
TZOFFSETFROM:-0400
TZOFFSETTO:-0500
TZNAME:EST
DTSTART:20261101T060000
END:STANDARD
END:VTIMEZONE
BEGIN:VEVENT
DTSTART;TZID=America/New_York:20251018T150000
DTEND;TZID=America/New_York:20251018T190000
DTSTAMP:20260421T063207
CREATED:20250728T174905Z
LAST-MODIFIED:20250728T175351Z
UID:55712-1760799600-1760814000@newrivergorgecvb.com
SUMMARY:Bridge Day Chili Cook Off
DESCRIPTION:Things are heating up in Fayetteville with the 14th Annual Bridge Day Chili Cook-off! Come to Historic downtown Fayetteville\, stop by to taste\, and to help judge some of the best chili samples from around the region from mild to wild! Admission and parking are FREE\, but there is a charge for chili tasting tickets.Enjoy incredible live music\, delicious chili\, activities for the kids\, and more! Help us Crown this year’s Chili King or Queen with the People’s choice vote\, bead your favorite chef!We will be set up in downtown Fayetteville on Court Street in front of the Fayette County Court House. New to this year we will have a youth division!Schedule:Registration and Set-up 1:30pm-2:30p.mTasting\, Judging\, Voting 3:00pm-5:00pmAwards 5:45pmPrizes:1st Place $6002nd Place $4003rd Place $200Best Vegetarian $200Youth Division1st Place $6002nd Place $400People’s Choice $150Best Decorated booth $25Best Cornbread $1005 Chili Tasting Tickets $10 (cash only )https://visitfayettevillewv.com/…/bridge-day-chili…/Help us pull off an epic Chili Cook-off by sponsoring our event.For sponsorship information: call (304) 574-1500 or email info@visitfayettevillewv.com
URL:https://newrivergorgecvb.com/event/bridge-day-chili-cook-off/
LOCATION:Fayetteville Convention and Visitors Bureau\, 310 N Court St\, Fayetteville\, WV 25840\, USA\, Fayetteville\, WV\, 25840\, United States
ORGANIZER;CN="Visit Fayetteville":MAILTO:info@VisitFayettevilleWV.com
END:VEVENT
END:VCALENDAR