BEGIN:VCALENDAR
VERSION:2.0
PRODID:-//New River Gorge CVB - ECPv6.15.20//NONSGML v1.0//EN
CALSCALE:GREGORIAN
METHOD:PUBLISH
X-WR-CALNAME:New River Gorge CVB
X-ORIGINAL-URL:https://newrivergorgecvb.com
X-WR-CALDESC:Events for New River Gorge CVB
REFRESH-INTERVAL;VALUE=DURATION:PT1H
X-Robots-Tag:noindex
X-PUBLISHED-TTL:PT1H
BEGIN:VTIMEZONE
TZID:America/New_York
BEGIN:DAYLIGHT
TZOFFSETFROM:-0500
TZOFFSETTO:-0400
TZNAME:EDT
DTSTART:20240310T070000
END:DAYLIGHT
BEGIN:STANDARD
TZOFFSETFROM:-0400
TZOFFSETTO:-0500
TZNAME:EST
DTSTART:20241103T060000
END:STANDARD
BEGIN:DAYLIGHT
TZOFFSETFROM:-0500
TZOFFSETTO:-0400
TZNAME:EDT
DTSTART:20250309T070000
END:DAYLIGHT
BEGIN:STANDARD
TZOFFSETFROM:-0400
TZOFFSETTO:-0500
TZNAME:EST
DTSTART:20251102T060000
END:STANDARD
BEGIN:DAYLIGHT
TZOFFSETFROM:-0500
TZOFFSETTO:-0400
TZNAME:EDT
DTSTART:20260308T070000
END:DAYLIGHT
BEGIN:STANDARD
TZOFFSETFROM:-0400
TZOFFSETTO:-0500
TZNAME:EST
DTSTART:20261101T060000
END:STANDARD
END:VTIMEZONE
BEGIN:VEVENT
DTSTART;TZID=America/New_York:20250628T210000
DTEND;TZID=America/New_York:20250628T233000
DTSTAMP:20260423T130111
CREATED:20250220T183406Z
LAST-MODIFIED:20250220T183406Z
UID:32162-1751144400-1751153400@newrivergorgecvb.com
SUMMARY:Been Fishin' Live at Rendezvous River Lodge
DESCRIPTION:FREE SHOWMUSIC AT 9PM\n Been Fishin’ – Good Tunes\, No Pressure\nWe’re Been Fishin’\, a band outta the hills of Appalachia. We might not be catchin’ fish\, but we sure know how to have a good time! Our tunes mix a little bluegrass\, a little country\, a little funky\, and a lot of what makes this place home.\nSo grab a seat\, blow the fish whistle\, and listen to some honest music made by folks who know the value of a slow day and a good song.\n#BeenFishin #AppalachianMusic #Bluegrass #Country #GoodTimes\nY’all Been Fishin’?
URL:https://newrivergorgecvb.com/event/been-fishin-live-at-rendezvous-river-lodge/
LOCATION:Rendezvous River Lodge\, 219 Chestnutburg Road\, Lansing\, WV\, 25862\, United States
ORGANIZER;CN="Adventures on the Gorge":MAILTO:info@onthegorge.com
END:VEVENT
END:VCALENDAR