BEGIN:VCALENDAR
VERSION:2.0
PRODID:-//New River Gorge CVB - ECPv6.15.20//NONSGML v1.0//EN
CALSCALE:GREGORIAN
METHOD:PUBLISH
X-WR-CALNAME:New River Gorge CVB
X-ORIGINAL-URL:https://newrivergorgecvb.com
X-WR-CALDESC:Events for New River Gorge CVB
REFRESH-INTERVAL;VALUE=DURATION:PT1H
X-Robots-Tag:noindex
X-PUBLISHED-TTL:PT1H
BEGIN:VTIMEZONE
TZID:America/New_York
BEGIN:DAYLIGHT
TZOFFSETFROM:-0500
TZOFFSETTO:-0400
TZNAME:EDT
DTSTART:20230312T070000
END:DAYLIGHT
BEGIN:STANDARD
TZOFFSETFROM:-0400
TZOFFSETTO:-0500
TZNAME:EST
DTSTART:20231105T060000
END:STANDARD
BEGIN:DAYLIGHT
TZOFFSETFROM:-0500
TZOFFSETTO:-0400
TZNAME:EDT
DTSTART:20240310T070000
END:DAYLIGHT
BEGIN:STANDARD
TZOFFSETFROM:-0400
TZOFFSETTO:-0500
TZNAME:EST
DTSTART:20241103T060000
END:STANDARD
BEGIN:DAYLIGHT
TZOFFSETFROM:-0500
TZOFFSETTO:-0400
TZNAME:EDT
DTSTART:20250309T070000
END:DAYLIGHT
BEGIN:STANDARD
TZOFFSETFROM:-0400
TZOFFSETTO:-0500
TZNAME:EST
DTSTART:20251102T060000
END:STANDARD
END:VTIMEZONE
BEGIN:VEVENT
DTSTART;TZID=America/New_York:20240601T100000
DTEND;TZID=America/New_York:20240601T170000
DTSTAMP:20260423T103842
CREATED:20240311T141225Z
LAST-MODIFIED:20240311T141225Z
UID:26808-1717236000-1717261200@newrivergorgecvb.com
SUMMARY:13th Annual White Oak Rail Trail Expo
DESCRIPTION:Join us for over 150 unique vendors including live entertainment! This event is held on a handicapped accessible\, pedestrian friendly\, paved trail located in Oak Hill\, WV! Adjacent to the New River Gorge National Park! Enjoy a Fun Filled Day for the Whole Family!\nAn email has been sent to last year’s vendors to be able to register! If you are a vendor from last year and haven’t received an email please message the page!\nRegistration will be open to everyone on March 24th\, 2024!
URL:https://newrivergorgecvb.com/event/13th-annual-white-oak-rail-trail-expo/
LOCATION:White Oak Rail Trail\, Oak Hill\, WV\, USA\, Oak Hill\, WV\, United States
END:VEVENT
END:VCALENDAR