BEGIN:VCALENDAR
VERSION:2.0
PRODID:-//New River Gorge CVB - ECPv6.15.20//NONSGML v1.0//EN
CALSCALE:GREGORIAN
METHOD:PUBLISH
X-ORIGINAL-URL:https://newrivergorgecvb.com
X-WR-CALDESC:Events for New River Gorge CVB
REFRESH-INTERVAL;VALUE=DURATION:PT1H
X-Robots-Tag:noindex
X-PUBLISHED-TTL:PT1H
BEGIN:VTIMEZONE
TZID:America/New_York
BEGIN:DAYLIGHT
TZOFFSETFROM:-0500
TZOFFSETTO:-0400
TZNAME:EDT
DTSTART:20240310T070000
END:DAYLIGHT
BEGIN:STANDARD
TZOFFSETFROM:-0400
TZOFFSETTO:-0500
TZNAME:EST
DTSTART:20241103T060000
END:STANDARD
BEGIN:DAYLIGHT
TZOFFSETFROM:-0500
TZOFFSETTO:-0400
TZNAME:EDT
DTSTART:20250309T070000
END:DAYLIGHT
BEGIN:STANDARD
TZOFFSETFROM:-0400
TZOFFSETTO:-0500
TZNAME:EST
DTSTART:20251102T060000
END:STANDARD
BEGIN:DAYLIGHT
TZOFFSETFROM:-0500
TZOFFSETTO:-0400
TZNAME:EDT
DTSTART:20260308T070000
END:DAYLIGHT
BEGIN:STANDARD
TZOFFSETFROM:-0400
TZOFFSETTO:-0500
TZNAME:EST
DTSTART:20261101T060000
END:STANDARD
END:VTIMEZONE
BEGIN:VEVENT
DTSTART;TZID=America/New_York:20250308T190000
DTEND;TZID=America/New_York:20250308T233000
DTSTAMP:20260422T213554
CREATED:20250207T162337Z
LAST-MODIFIED:20250207T162337Z
UID:10001677-1741460400-1741476600@newrivergorgecvb.com
SUMMARY:A Spirited Gathering:  Haunted Dinner and Public Ghost Hunt
DESCRIPTION:Enjoy a relaxing Italian dinner and learn about the haunted history of the Glen Ferris Inn! Call the inn for tickets\, or purchase at the door!\nJoin the Spectral Research and Investigation Team from Huntington\, and Banshee Winds Productions on a ghost hunt of the historic Glen Ferris Inn! Learn about the stories of paranormal activity in the Inn\, and see if YOU can track down the phantoms of the beautiful riverside Inn.
URL:https://newrivergorgecvb.com/event/a-spirited-gathering-haunted-dinner-and-public-ghost-hunt/
LOCATION:The Glen Ferris Inn\, 9022 Midland Trail\, Glen Ferris\, WV 25090\, USA\, Glen Ferris\, WV\, 25090\, United States
ORGANIZER;CN="Glen Ferris Inn":MAILTO:glenferrisinn@yahoo.com
END:VEVENT
END:VCALENDAR