BEGIN:VCALENDAR
VERSION:2.0
PRODID:-//New River Gorge CVB - ECPv6.15.20//NONSGML v1.0//EN
CALSCALE:GREGORIAN
METHOD:PUBLISH
X-WR-CALNAME:New River Gorge CVB
X-ORIGINAL-URL:https://newrivergorgecvb.com
X-WR-CALDESC:Events for New River Gorge CVB
REFRESH-INTERVAL;VALUE=DURATION:PT1H
X-Robots-Tag:noindex
X-PUBLISHED-TTL:PT1H
BEGIN:VTIMEZONE
TZID:America/New_York
BEGIN:DAYLIGHT
TZOFFSETFROM:-0500
TZOFFSETTO:-0400
TZNAME:EDT
DTSTART:20230312T070000
END:DAYLIGHT
BEGIN:STANDARD
TZOFFSETFROM:-0400
TZOFFSETTO:-0500
TZNAME:EST
DTSTART:20231105T060000
END:STANDARD
BEGIN:DAYLIGHT
TZOFFSETFROM:-0500
TZOFFSETTO:-0400
TZNAME:EDT
DTSTART:20240310T070000
END:DAYLIGHT
BEGIN:STANDARD
TZOFFSETFROM:-0400
TZOFFSETTO:-0500
TZNAME:EST
DTSTART:20241103T060000
END:STANDARD
BEGIN:DAYLIGHT
TZOFFSETFROM:-0500
TZOFFSETTO:-0400
TZNAME:EDT
DTSTART:20250309T070000
END:DAYLIGHT
BEGIN:STANDARD
TZOFFSETFROM:-0400
TZOFFSETTO:-0500
TZNAME:EST
DTSTART:20251102T060000
END:STANDARD
END:VTIMEZONE
BEGIN:VEVENT
DTSTART;TZID=America/New_York:20240427T130000
DTEND;TZID=America/New_York:20240427T160000
DTSTAMP:20260421T153951
CREATED:20240408T175153Z
LAST-MODIFIED:20240408T175153Z
UID:10000802-1714222800-1714233600@newrivergorgecvb.com
SUMMARY:Spring Fling Bike Ride at New River Gorge National Park and Preserve
DESCRIPTION:xperience the sights and sounds of spring on a leisurely mountain bike ride on the Southside Trail\, stopping to see the signs of the season along the way. Join a park ranger and the National Parks Conservation Association for this family-friendly\, 6-10-mile\, group ride on this mostly level rail trail. Bring your own bike and helmet or some will be available through a partnership with Active Southern West Virginia.\nWest Virginia Pedal Pals receives program support from Active Southern West Virginia. Please register for this event on the (free) MemberPlus app to make for a smooth check-in process before the ride! If you haven’t already Join MemberPlus today\, start here: https://members.activeswv.org/member-application\nReservations required by 4/25/24!\n\nFor more information on Spring Nature Fling activities New River Gorge National Park and Preserve: https://www.nps.gov/…/planyourv…/spring-nature-fling.htm
URL:https://newrivergorgecvb.com/event/spring-fling-bike-ride-at-new-river-gorge-national-park-and-preserve/
LOCATION:1534 Cunard River Access Rd\, Fayetteville\, WV 25840\, 1534 Cunard River Access Road\, Fayetteville\, WV\, 25840\, United States
END:VEVENT
END:VCALENDAR