BEGIN:VCALENDAR
VERSION:2.0
PRODID:-//New River Gorge CVB - ECPv6.15.20//NONSGML v1.0//EN
CALSCALE:GREGORIAN
METHOD:PUBLISH
X-ORIGINAL-URL:https://newrivergorgecvb.com
X-WR-CALDESC:Events for New River Gorge CVB
REFRESH-INTERVAL;VALUE=DURATION:PT1H
X-Robots-Tag:noindex
X-PUBLISHED-TTL:PT1H
BEGIN:VTIMEZONE
TZID:America/New_York
BEGIN:DAYLIGHT
TZOFFSETFROM:-0500
TZOFFSETTO:-0400
TZNAME:EDT
DTSTART:20200308T070000
END:DAYLIGHT
BEGIN:STANDARD
TZOFFSETFROM:-0400
TZOFFSETTO:-0500
TZNAME:EST
DTSTART:20201101T060000
END:STANDARD
BEGIN:DAYLIGHT
TZOFFSETFROM:-0500
TZOFFSETTO:-0400
TZNAME:EDT
DTSTART:20210314T070000
END:DAYLIGHT
BEGIN:STANDARD
TZOFFSETFROM:-0400
TZOFFSETTO:-0500
TZNAME:EST
DTSTART:20211107T060000
END:STANDARD
BEGIN:DAYLIGHT
TZOFFSETFROM:-0500
TZOFFSETTO:-0400
TZNAME:EDT
DTSTART:20220313T070000
END:DAYLIGHT
BEGIN:STANDARD
TZOFFSETFROM:-0400
TZOFFSETTO:-0500
TZNAME:EST
DTSTART:20221106T060000
END:STANDARD
BEGIN:DAYLIGHT
TZOFFSETFROM:-0500
TZOFFSETTO:-0400
TZNAME:EDT
DTSTART:20230312T070000
END:DAYLIGHT
BEGIN:STANDARD
TZOFFSETFROM:-0400
TZOFFSETTO:-0500
TZNAME:EST
DTSTART:20231105T060000
END:STANDARD
BEGIN:DAYLIGHT
TZOFFSETFROM:-0500
TZOFFSETTO:-0400
TZNAME:EDT
DTSTART:20240310T070000
END:DAYLIGHT
BEGIN:STANDARD
TZOFFSETFROM:-0400
TZOFFSETTO:-0500
TZNAME:EST
DTSTART:20241103T060000
END:STANDARD
BEGIN:DAYLIGHT
TZOFFSETFROM:-0500
TZOFFSETTO:-0400
TZNAME:EDT
DTSTART:20250309T070000
END:DAYLIGHT
BEGIN:STANDARD
TZOFFSETFROM:-0400
TZOFFSETTO:-0500
TZNAME:EST
DTSTART:20251102T060000
END:STANDARD
END:VTIMEZONE
BEGIN:VEVENT
DTSTART;TZID=America/New_York:20240511T110000
DTEND;TZID=America/New_York:20240511T170000
DTSTAMP:20260422T075736
CREATED:20240507T191650Z
LAST-MODIFIED:20240507T191650Z
UID:10000847-1715425200-1715446800@newrivergorgecvb.com
SUMMARY:Cruise in at Hico!
DESCRIPTION:HICO / HICO / HICO Rt 60The Freefolk Brewery in Hico is hosting a CRUISE IN Saturday May 11th starting at 11amAll Vehicles Welcome- FOOD\, VENDORS\, 12 BEERS on tapFor more information: Please text or call Sean Brady at 304-881-8855
URL:https://newrivergorgecvb.com/event/cruise-in-at-hico/
LOCATION:Freefolk Brewery Hico\, 25854 Midland Trail\, Hico\, WV\, 25854\, United States
END:VEVENT
BEGIN:VEVENT
DTSTART;TZID=America/New_York:20240330T180000
DTEND;TZID=America/New_York:20240330T200000
DTSTAMP:20260422T075736
CREATED:20240311T142033Z
LAST-MODIFIED:20240311T142033Z
UID:10000760-1711821600-1711828800@newrivergorgecvb.com
SUMMARY:Chet Lowther LIVE at Freefolk
DESCRIPTION:Join us for live music with Chet Lowther on March 30th! We’re excited to welcome back this talented artist who comes to us locally from Charleston! Show goes on from 6-8PM
URL:https://newrivergorgecvb.com/event/chet-lowther-live-at-freefolk/
LOCATION:Freefolk Brewery\, 1690 Court Street\, Fayetteville\, WV\, 25840\, United States
END:VEVENT
BEGIN:VEVENT
DTSTART;TZID=America/New_York:20240323T180000
DTEND;TZID=America/New_York:20240323T210000
DTSTAMP:20260422T075736
CREATED:20240314T191734Z
LAST-MODIFIED:20240314T191734Z
UID:10000785-1711216800-1711227600@newrivergorgecvb.com
SUMMARY:Makenna Hope Live at Freefolk!
DESCRIPTION:Makenna Hope is back at the Taproom on March 23rd and we can’t wait! This amazing local singer songwriter plays an incredible range of Appalachian inspired tunes with a modern twist! We are so excited to have her back; show starts at 6PM
URL:https://newrivergorgecvb.com/event/makenna-hope-live-at-freefolk/
LOCATION:Freefolk Brewery\, 1690 Court Street\, Fayetteville\, WV\, 25840\, United States
END:VEVENT
BEGIN:VEVENT
DTSTART;TZID=America/New_York:20240322T180000
DTEND;TZID=America/New_York:20240322T220000
DTSTAMP:20260422T075736
CREATED:20240219T201136Z
LAST-MODIFIED:20240219T201136Z
UID:10000714-1711130400-1711144800@newrivergorgecvb.com
SUMMARY:The Showdown\, benefitting Love Hope Arts
DESCRIPTION:Join us for a fun and unique evening at our upcoming fundraiser – The Showdown! Come on out to the new Freefolk Brewhouse and Tasting Room in Hico for a night of live painting\, music\, vendors and an auction. All artwork created during the event will be up for auction for 1 month after the event.\nThe purpose of this event is to support the arts & artists of the New River Gorge region. All proceeds will go towards Love Hope Center for the Arts and participating artists. The Showdown will feauture a multi-round competition\, with twelve West Virginia artists working in front of an audience to create their masterpiece. Attendees will vote to determine who advances from round to round. Each round will last 40 minutes.\nCome on out to watch fellow local artists and artists across the state in friendly competition while the audience cast their votes and cheer them on!\nLove Hope Center for the Arts is a 501(c)(3) nonprofit organization that offers a variety of classes\, studio space and events as well as unique exhibit space in Fayetteville\, West Virginia.\nOur mission is to fuel artistic passion in West Virginia through community-driven art programs\, nurturing local talent\, and fostering connections that embody love\, hope\, and cultural richness in our vibrant Appalachian home
URL:https://newrivergorgecvb.com/event/the-showdown-benefitting-love-hope-arts/
LOCATION:Freefolk Brewery Hico\, 25854 Midland Trail\, Hico\, WV\, 25854\, United States
END:VEVENT
BEGIN:VEVENT
DTSTART;TZID=America/New_York:20240317T120000
DTEND;TZID=America/New_York:20240317T200000
DTSTAMP:20260422T075736
CREATED:20240314T164445Z
LAST-MODIFIED:20240314T164445Z
UID:10000774-1710676800-1710705600@newrivergorgecvb.com
SUMMARY:St. Patty's Day Partay at Freefolk!
DESCRIPTION:We are back with our annual St. Patrick’s Day Celebration! We’re excited to celebrate with drink specials on the bar: Irish Maid’s (a fun Jameson/St. Germaine Elderflower cocktail) and Irish Mules!\nChef Clint is putting together some delicious food specials:\n-CLASSIC REUBEN with shaved corned beef on butter-toasted pumpernickel rye\, topped with baby swiss cheese\, homemade sauerkraut and 1000 island dressing!\n-FISH N CHIPS with Freefolk beer-battered Mahi Mahi\, deep fried and golden brown\, served with french fries\, mushy peas\, jalapeno tartar\, ketchup and lemon!\n-SCOTTISH IRISH EGGS ~ hard boiled egg wrapped in local Angelo’s Italian Sausage and deep fried. Served on a bed of traditional Colcannon (potato and cabbage) topped with scallions and sriachia!\nWe’ll be celebrating ALL day (12-8PM) and will have the food specials until they run out!! Come hangout with us and celebrate a fun holiday\, time with friends\, getting close to spring\, whatever you want! Cheers friends!
URL:https://newrivergorgecvb.com/event/st-pattys-day-partay-at-freefolk/
LOCATION:Freefolk Brewery\, 1690 Court Street\, Fayetteville\, WV\, 25840\, United States
END:VEVENT
BEGIN:VEVENT
DTSTART;TZID=America/New_York:20240316T120000
DTEND;TZID=America/New_York:20240316T170000
DTSTAMP:20260422T075736
CREATED:20240228T203647Z
LAST-MODIFIED:20240228T203647Z
UID:10000738-1710590400-1710608400@newrivergorgecvb.com
SUMMARY:Maple Days Fest at the Taproom
DESCRIPTION:We are back with our annual Maple Days Celebration at the Taproom! Join us for an awesome day celebrating all things Appalachia and maple! March 16th from 12-5\nWe will be releasing our annual Hickory Horned Devil\, part of our Wild and Free Series! This unique Maple Cream Ale uses local maple syrup\, maple sap\, and maple water in the brew process from Blossom Hill Farms in Victor\, WV. This beer highlights the Hickory Horned Devil caterpillar and its primary habitat as the species of concern\, the white walnut\, which is in decline regionally.\nWe will have a delicious Chicken and Waffle food special using Blossom Hill Farms maple syrup! We also have SEVEN different local vendors setting up tables with some amazing products:\nBlossom Hill Farms\nBone Fragments 304\nThe Goods\nSouthern Pillar Jewelry\nMystic Mountain Soap\nTammy Rasnick (herbal products!)\nEleanor Marshall (delicious baked goods)\nIt’s going to be such a great day; come out and support your local creators and maple producers!
URL:https://newrivergorgecvb.com/event/maple-days-fest-at-the-taproom/
LOCATION:Freefolk Brewery\, 1690 Court Street\, Fayetteville\, WV\, 25840\, United States
END:VEVENT
BEGIN:VEVENT
DTSTART;TZID=America/New_York:20231125T120000
DTEND;TZID=America/New_York:20231125T170000
DTSTAMP:20260422T075736
CREATED:20231106T150932Z
LAST-MODIFIED:20231106T150932Z
UID:10000653-1700913600-1700931600@newrivergorgecvb.com
SUMMARY:Small Business Saturday Market at Freefolk
DESCRIPTION:Join us for our Third Annual Small Business Saturday Market at the Freefolk Taproom! We’re so excited to host another holiday market the Saturday after Thanksgiving\, on Small Business Saturday! Skip Black Friday and come shop local with us instead \nWe’ll have tons of local artisans with amazing products such as jewelry\, skincare\, herbal remedies\, crafted goods\, local art\, and so much more! LIVE MUSIC with Ryan Brandenburg from 2-4\, and then Dina Hornbaker from 4-6!\nWe also have New River Animal Rescue setting up a Santa Paws Photoshoot with Santa & Mrs. Claus at the brewery for pics with your fur babies!! Holiday props and backdrops on sight!\nAND we’re running a donation drive – if you bring in FIVE non-perishable food items to be donated to NRAR or our local food bank\, you get a free 10oz draft pour!!\nMark it on your calendar now because it’s a day you don’t want to miss!!
URL:https://newrivergorgecvb.com/event/small-business-saturday-market-at-freefolk/
LOCATION:Freefolk Brewery\, 1690 Court Street\, Fayetteville\, WV\, 25840\, United States
END:VEVENT
BEGIN:VEVENT
DTSTART;TZID=America/New_York:20230819T120000
DTEND;TZID=America/New_York:20230819T190000
DTSTAMP:20260422T075736
CREATED:20230720T144759Z
LAST-MODIFIED:20230720T144759Z
UID:10000542-1692446400-1692471600@newrivergorgecvb.com
SUMMARY:Cryptid Bash 3
DESCRIPTION:Sponsored by The Flatwoods Monster Museum\, Ballyraven\, Small Town Monsters\, Strange Days Zine\, Loudmouth Threads\, Legendary Luminaries\, Wild & Weird WV\, Appalachian Huntsman\nDate: Saturday August 19th\, 2023\nVenue: The Freefolk Brewhouse And Tasting Room\nAddress: 25385 Midland Trail\nHico\, WV 25854\nTime: Noon – 7PM\nPrice: FREE!!!!!\nFor: ALL AGES!!!!!\nJoin us for Cryptid Bash 3 at The Freefolk Brewhouse And Tasting Room!\nWe have personally hand picked some of the best artists and creators in the Cryptid and Paranormal scene to set up tables to sell and show their work!\nWe will also have live music\, food trucks\, and some of the best brews served nice and cold!\nThere will be two food trucks on site for the event! Sassy Pig BBQ and The Taco Spot WV will be serving up delicious food so come hungry!\nLIVE MUSIC:\nJ. Hatfield (Charleston\, WV)\n5:50-6:50\nMA’AM (Fayetteville\, WV & White Sulphur Springs\, WV)\n4:40-5:40\nGinger Wixx (Kenova\, WV)\n3:30-4:30\nEbony Nicole (Harrisonburg\, VA)\n2:20-3:20\nCaptain Catfeesh (Morgantown\, WV)\n1:10-2:10\nBrittany McGuire (Beckley\, WV)\n12:00-1:00\n\nAFTER-PARTY:\nThe official Cryptid Bash 3 after-party will take place at 8PM at The Freefolk Brewhouse And Tasting Room with Beach Creeper from Baltimore\, Maryland and Seven Planets from Beckley\, West Virginia which will also be free to the public and all ages. Make sure to come out and rock with us!\nBeach Creeper (9:00-10:00)\nSeven Planets (8:00-8:45)\nPhotography for Cryptid Bash 3 provided by Evan Umberger\n\nVENDORS:\nThe American Snallygaster Museum\nwww.facebook.com/TheSnallyHouse\nAppalachian Huntsman\nwww.etsy.com/shop/AppalachianHuntsman\nBallyraven\nwww.etsy.com/shop/Ballyraven\nBedlam Arts & Goods\nbedlamartsandgoods.com\nBrett Manning\nwww.etsy.com/shop/Brettisagirl\nCassie’s Land\nwww.etsy.com/shop/CassiesCryptidLand\nCryptid Curio\nwww.etsy.com/shop/CryptidCurio\nCryptid Comforts\nwww.etsy.com/shop/cryptidcomfortsshop\nConjureDust Designs\nwww.etsy.com/shop/ConjureDustDesigns\nDumpster Dive Toys And Thrift\nwww.facebook.com/dumpsterdivetoysandthrift\nEaston Hawk\nwww.etsy.com/shop/eastonhawkart\nJamie Snell\nwww.fineartamerica.com/profiles/jamie-snell\nJannette Quackenbush\nwww.21crows.com\nJonathan Dodd\nwww.inprnt.com/gallery/jonathandodd_draws\nLegendary Luminaries\nwww.facebook.com/legendaryluminaries\nLiz Pavlovic Design\nwww.etsy.com/shop/LizPavlovicDesign\nMap In Black\nwww.mapinblack.com\nMiss Trixie’s Quilty Pleasure\nhttps://www.facebook.com/profile.php?id=100054522847646…\nMystic Novelty Co.\nwww.etsy.com/shop/MysticNoveltyCo\nSeymour’s Captive Cryptids\nwww.seymourscaptivecryptids.com\nShapelessFlame\nwww.shapelessflame.com\nSherwin Quiambao\nwww.sherwinsketch.tumblr.com\nSmall Town Monsters\nwww.smalltownmonsters.com\nSpring Fox Studios\nwww.springfoxstudios.carrd.com\nStrange Days Zine\nwww.etsy.com/shop/StrangeDaysZine\nTodd Purse\nwww.createmagicstudios.com\nWild Sage Felt\nwww.etsy.com/shop/wildsagefelt\nWild & Weird WV\nwww.wildandweirdwv.com\nWooden West Virginia\nwww.facebook.com/Wooden-West-Virginia\nWe hope to see y’all there!!!!!
URL:https://newrivergorgecvb.com/event/cryptid-bash-3-2/
LOCATION:Freefolk Brewery Hico\, 25854 Midland Trail\, Hico\, WV\, 25854\, United States
END:VEVENT
BEGIN:VEVENT
DTSTART;TZID=America/New_York:20230420T183000
DTEND;TZID=America/New_York:20230420T203000
DTSTAMP:20260422T075736
CREATED:20230208T202920Z
LAST-MODIFIED:20230208T202920Z
UID:10000166-1682015400-1682022600@newrivergorgecvb.com
SUMMARY:Third Thursday's Old Time Jam
DESCRIPTION:oin us the Third Thursday of every month for an Old Time Jam Session! Bring your instrument for an open jam in the taproom with amazing local artists! And even if you don’t play anything yourself\, still come down to grab a pint and listen to some awesome music!
URL:https://newrivergorgecvb.com/event/third-thursdays-old-time-jam/2023-04-20/
LOCATION:Freefolk Brewery\, 1690 Court Street\, Fayetteville\, WV\, 25840\, United States
END:VEVENT
BEGIN:VEVENT
DTSTART;TZID=America/New_York:20230316T183000
DTEND;TZID=America/New_York:20230316T203000
DTSTAMP:20260422T075736
CREATED:20230208T202920Z
LAST-MODIFIED:20230208T202920Z
UID:10000165-1678991400-1678998600@newrivergorgecvb.com
SUMMARY:Third Thursday's Old Time Jam
DESCRIPTION:oin us the Third Thursday of every month for an Old Time Jam Session! Bring your instrument for an open jam in the taproom with amazing local artists! And even if you don’t play anything yourself\, still come down to grab a pint and listen to some awesome music!
URL:https://newrivergorgecvb.com/event/third-thursdays-old-time-jam/2023-03-16/
LOCATION:Freefolk Brewery\, 1690 Court Street\, Fayetteville\, WV\, 25840\, United States
END:VEVENT
BEGIN:VEVENT
DTSTART;TZID=America/New_York:20230216T183000
DTEND;TZID=America/New_York:20230216T203000
DTSTAMP:20260422T075736
CREATED:20230208T202920Z
LAST-MODIFIED:20230208T202920Z
UID:10000164-1676572200-1676579400@newrivergorgecvb.com
SUMMARY:Third Thursday's Old Time Jam
DESCRIPTION:oin us the Third Thursday of every month for an Old Time Jam Session! Bring your instrument for an open jam in the taproom with amazing local artists! And even if you don’t play anything yourself\, still come down to grab a pint and listen to some awesome music!
URL:https://newrivergorgecvb.com/event/third-thursdays-old-time-jam/2023-02-16/
LOCATION:Freefolk Brewery\, 1690 Court Street\, Fayetteville\, WV\, 25840\, United States
END:VEVENT
BEGIN:VEVENT
DTSTART;TZID=America/New_York:20230211T140000
DTEND;TZID=America/New_York:20230211T170000
DTSTAMP:20260422T075736
CREATED:20230208T203351Z
LAST-MODIFIED:20230208T203649Z
UID:10000167-1676124000-1676134800@newrivergorgecvb.com
SUMMARY:Galentine's Day Botany Tropicals Plant Workshop
DESCRIPTION:Guess what we are back and would love to have you!\nGrab your gals and pals for an afternoon of throwing dirt on all those perfect couples.\nCreate a Terrarium at this freestyle workshop with your favorite gals & pals!\nWorkshop includes:\n•Unique Terrarium Vessel\n•Terrarium Plant(s)\n•Botany’s Custom Soil Blend\n•Unlimited access to our toppings bar\n•1 fairy house\n*Additional fairy decor items will be available for purchase.\n\nFreefolk will have the full kitchen and bar menu available so y’all can have some delicious food and drinks as you dig in the dirt – what more could you ask for?
URL:https://newrivergorgecvb.com/event/galentines-day-botany-tropicals-plant-workshop/
LOCATION:Freefolk Brewery\, 1690 Court Street\, Fayetteville\, WV\, 25840\, United States
END:VEVENT
BEGIN:VEVENT
DTSTART;TZID=America/New_York:20221117T160000
DTEND;TZID=America/New_York:20221117T210000
DTSTAMP:20260422T075736
CREATED:20221102T155208Z
LAST-MODIFIED:20221102T155325Z
UID:10000147-1668700800-1668718800@newrivergorgecvb.com
SUMMARY:Pints For A Purpose
DESCRIPTION:Join us for another Pints For A Purpose Night with the Fayette County Family Resource Network! The FRN is a network of community members and agencies providing services. Their mission is to strengthen individuals\, families\, and communities through education\, mobilization\, resource development\, inter-agency coordination\, strategic planning\, needs assessments\, and ongoing evaluation of services.\nWe’re excited to highlight their organization! Members from FRN will be set up with a booth to answer questions and provide more information throughout the evening. Join us to drink beer for a good cause!
URL:https://newrivergorgecvb.com/event/pints-for-a-purpose/
LOCATION:Freefolk Brewery\, 1690 Court Street\, Fayetteville\, WV\, 25840\, United States
ATTACH;FMTTYPE=image/jpeg:https://newrivergorgecvb.com/wp-content/uploads/2022/11/pints-for-a-purpose-delete.jpg
END:VEVENT
BEGIN:VEVENT
DTSTART;TZID=America/New_York:20210501T130000
DTEND;TZID=America/New_York:20210501T220000
DTSTAMP:20260422T075736
CREATED:20210428T201945Z
LAST-MODIFIED:20210428T201945Z
UID:10000104-1619874000-1619906400@newrivergorgecvb.com
SUMMARY:Freefolk Fire Festival
DESCRIPTION:First Annual Freefolk Fire Festival! We’ll have our courtyard decked out in flowers\, and we will be celebrating spring! Great beer! Live music! Dancing! Good food! Then\, the Green Man and the Goddess of Spring will end the night by burning an effigy of old man winter.
URL:https://newrivergorgecvb.com/event/freefolk-fire-festival/
LOCATION:Freefolk Brewery\, 1690 Court Street\, Fayetteville\, WV\, 25840\, United States
END:VEVENT
END:VCALENDAR