BEGIN:VCALENDAR
VERSION:2.0
PRODID:-//New River Gorge CVB - ECPv6.15.20//NONSGML v1.0//EN
CALSCALE:GREGORIAN
METHOD:PUBLISH
X-ORIGINAL-URL:https://newrivergorgecvb.com
X-WR-CALDESC:Events for New River Gorge CVB
REFRESH-INTERVAL;VALUE=DURATION:PT1H
X-Robots-Tag:noindex
X-PUBLISHED-TTL:PT1H
BEGIN:VTIMEZONE
TZID:America/New_York
BEGIN:DAYLIGHT
TZOFFSETFROM:-0500
TZOFFSETTO:-0400
TZNAME:EDT
DTSTART:20200308T070000
END:DAYLIGHT
BEGIN:STANDARD
TZOFFSETFROM:-0400
TZOFFSETTO:-0500
TZNAME:EST
DTSTART:20201101T060000
END:STANDARD
BEGIN:DAYLIGHT
TZOFFSETFROM:-0500
TZOFFSETTO:-0400
TZNAME:EDT
DTSTART:20210314T070000
END:DAYLIGHT
BEGIN:STANDARD
TZOFFSETFROM:-0400
TZOFFSETTO:-0500
TZNAME:EST
DTSTART:20211107T060000
END:STANDARD
BEGIN:DAYLIGHT
TZOFFSETFROM:-0500
TZOFFSETTO:-0400
TZNAME:EDT
DTSTART:20220313T070000
END:DAYLIGHT
BEGIN:STANDARD
TZOFFSETFROM:-0400
TZOFFSETTO:-0500
TZNAME:EST
DTSTART:20221106T060000
END:STANDARD
END:VTIMEZONE
BEGIN:VEVENT
DTSTART;TZID=America/New_York:20210603T083000
DTEND;TZID=America/New_York:20210603T170000
DTSTAMP:20260422T031608
CREATED:20210603T154218Z
LAST-MODIFIED:20210603T154218Z
UID:10000116-1622709000-1622739600@newrivergorgecvb.com
SUMMARY:Fayetteville 5k Fun Run/Walk
DESCRIPTION:Click below to register on RunSignUp.com\nhttps://runsignup.com/…/Fayetteville/Fayetteville4th5K…\n\nJoin us Independence Day weekend for this fun run/walk hosted by the Fayetteville Bicycle Pedestrian Action Committee\, supported by the Town of Fayetteville\, Active SWV and Arrowhead Bike Farm. We will meet at the Fayetteville Town Park\, Shelter 3 near the dog park\, and follow the beginner friendly trails behind the park\, and the fitness loop. The course will be a mix of paved and dirt path. Pre-register online\, and receive a t-shirt on race day. Day-of registration will be available between 7:30am – 8:15am prior to the race start. T-shirts are not guaranteed for day-of registrants. The run/walk will begin at 8:30am. Please note\, while we will have a timer going at the start/finish\, you will NOT have a timer chip/bib. We hope you all get a new personal record\, but remember\, we are running/walking for fun this weekend! You will need to set a timer on your own device if you want to accurately track your time
URL:https://newrivergorgecvb.com/event/fayetteville-5k-fun-run-walk/
ATTACH;FMTTYPE=image/jpeg:https://newrivergorgecvb.com/wp-content/uploads/2021/06/fayetteville5k_2021.jpg
END:VEVENT
END:VCALENDAR