BEGIN:VCALENDAR
VERSION:2.0
PRODID:-//New River Gorge CVB - ECPv6.15.20//NONSGML v1.0//EN
CALSCALE:GREGORIAN
METHOD:PUBLISH
X-ORIGINAL-URL:https://newrivergorgecvb.com
X-WR-CALDESC:Events for New River Gorge CVB
REFRESH-INTERVAL;VALUE=DURATION:PT1H
X-Robots-Tag:noindex
X-PUBLISHED-TTL:PT1H
BEGIN:VTIMEZONE
TZID:America/New_York
BEGIN:DAYLIGHT
TZOFFSETFROM:-0500
TZOFFSETTO:-0400
TZNAME:EDT
DTSTART:20220313T070000
END:DAYLIGHT
BEGIN:STANDARD
TZOFFSETFROM:-0400
TZOFFSETTO:-0500
TZNAME:EST
DTSTART:20221106T060000
END:STANDARD
BEGIN:DAYLIGHT
TZOFFSETFROM:-0500
TZOFFSETTO:-0400
TZNAME:EDT
DTSTART:20230312T070000
END:DAYLIGHT
BEGIN:STANDARD
TZOFFSETFROM:-0400
TZOFFSETTO:-0500
TZNAME:EST
DTSTART:20231105T060000
END:STANDARD
BEGIN:DAYLIGHT
TZOFFSETFROM:-0500
TZOFFSETTO:-0400
TZNAME:EDT
DTSTART:20240310T070000
END:DAYLIGHT
BEGIN:STANDARD
TZOFFSETFROM:-0400
TZOFFSETTO:-0500
TZNAME:EST
DTSTART:20241103T060000
END:STANDARD
END:VTIMEZONE
BEGIN:VEVENT
DTSTART;TZID=America/New_York:20230601T100000
DTEND;TZID=America/New_York:20230604T020000
DTSTAMP:20260421T182750
CREATED:20230601T204934Z
LAST-MODIFIED:20230601T204934Z
UID:10000520-1685613600-1685844000@newrivergorgecvb.com
SUMMARY:Riverchick Farm Food Truck at Mountain Music Festival
DESCRIPTION:Open on the mountain top at Ace Adventure Resorts Mountain Music Festival
URL:https://newrivergorgecvb.com/event/riverchick-farm-food-truck-at-mountain-music-festival/
LOCATION:ACE Adventure Resort\, 1 Concho Road\, Oak Hill\, WV\, 25901\, United States
CATEGORIES:Food Truck
ATTACH;FMTTYPE=image/jpeg:https://newrivergorgecvb.com/wp-content/uploads/2023/06/51D9F77A-39A0-41BC-BF0B-8DAD53A24A1C-scaled.jpeg
ORGANIZER;CN="ACE Adventure Resort":MAILTO:ace@aceraft.com
END:VEVENT
BEGIN:VEVENT
DTSTART;TZID=America/New_York:20230602T170000
DTEND;TZID=America/New_York:20230602T210000
DTSTAMP:20260421T182751
CREATED:20230601T122526Z
LAST-MODIFIED:20230601T133312Z
UID:10000522-1685725200-1685739600@newrivergorgecvb.com
SUMMARY:M*A*D Concessions At Fayetteville’s First Fridays in June
DESCRIPTION:Businesses are encouraged to stay open late for extended shopping hours. Court Street will be closed to host vendors\, food trucks\, artists\, and more!\nThis event brings together the local community and visitors to celebrate downtown Fayetteville.\nShop\, eat\, gather and explore everything downtown Fayetteville has to offer. This is a juried artisan market as we want to showcase the talent in and around Fayetteville. For vendor information email info@visitfayettevillewv.com
URL:https://newrivergorgecvb.com/event/mad-concessions-at-fayettevilles-first-fridays-in-june/
LOCATION:Fayetteville\, WV\, WV\, United States
CATEGORIES:Food Truck
ATTACH;FMTTYPE=image/jpeg:https://newrivergorgecvb.com/wp-content/uploads/2023/05/IMG_4735.jpeg
END:VEVENT
END:VCALENDAR