BEGIN:VCALENDAR
VERSION:2.0
PRODID:-//New River Gorge CVB - ECPv6.15.20//NONSGML v1.0//EN
CALSCALE:GREGORIAN
METHOD:PUBLISH
X-WR-CALNAME:New River Gorge CVB
X-ORIGINAL-URL:https://newrivergorgecvb.com
X-WR-CALDESC:Events for New River Gorge CVB
REFRESH-INTERVAL;VALUE=DURATION:PT1H
X-Robots-Tag:noindex
X-PUBLISHED-TTL:PT1H
BEGIN:VTIMEZONE
TZID:America/New_York
BEGIN:DAYLIGHT
TZOFFSETFROM:-0500
TZOFFSETTO:-0400
TZNAME:EDT
DTSTART:20240310T070000
END:DAYLIGHT
BEGIN:STANDARD
TZOFFSETFROM:-0400
TZOFFSETTO:-0500
TZNAME:EST
DTSTART:20241103T060000
END:STANDARD
BEGIN:DAYLIGHT
TZOFFSETFROM:-0500
TZOFFSETTO:-0400
TZNAME:EDT
DTSTART:20250309T070000
END:DAYLIGHT
BEGIN:STANDARD
TZOFFSETFROM:-0400
TZOFFSETTO:-0500
TZNAME:EST
DTSTART:20251102T060000
END:STANDARD
BEGIN:DAYLIGHT
TZOFFSETFROM:-0500
TZOFFSETTO:-0400
TZNAME:EDT
DTSTART:20260308T070000
END:DAYLIGHT
BEGIN:STANDARD
TZOFFSETFROM:-0400
TZOFFSETTO:-0500
TZNAME:EST
DTSTART:20261101T060000
END:STANDARD
END:VTIMEZONE
BEGIN:VEVENT
DTSTART;TZID=America/New_York:20250212T173000
DTEND;TZID=America/New_York:20250212T220000
DTSTAMP:20260422T162731
CREATED:20250124T162937Z
LAST-MODIFIED:20250124T162937Z
UID:10001589-1739381400-1739397600@newrivergorgecvb.com
SUMMARY:Speed Dating & Singles Mixer
DESCRIPTION:Looking for Love? Join Our Speed Dating Night! \nCupid’s getting a head start this year\, and so should you!  Wylde Ash Events and Southside Junction Tap House in downtown Fayetteville\, WV are teaming up to bring you an unforgettable evening of fun\, flirts\, and possibilities on Wednesday\, February 12th\, 2025.\nHere’s the deal: Check-in starts at 5:30 PM. Grab your name tag and get ready for the adventure! Speed Dating kicks off at 6 PM sharp. Dive into quick\, fun conversations that might just spark something amazing.\nAnd guess what? The fun doesn’t stop there! Once the speed dating wraps up\, Southside Junction Tap House opens its doors to the public for a Singles Mixer—the ultimate after-party to keep those sparks flying.  Enjoy themed drinks and exclusive discounts just for event participants. Cheers to that! \n Tickets are only $15 and include one glass of champagne—because meeting your match deserves a little bubbly\, right? \n Whether you’re searching for “the one” or just looking to make new connections\, this event is the perfect way to step out of your comfort zone and into a night full of laughs\, good vibes\, and maybe even a little magic.\n Mark your calendar. Grab your ticket. Don’t leave love (or fun) waiting.\n Let’s make February 12th a night to remember. Who knows? Your next great connection could be just a heartbeat away! 
URL:https://newrivergorgecvb.com/event/speed-dating-singles-mixer/
LOCATION:Southside Junction Tap House\, 101 South Court Street\, Fayetteville\, WV\, 25840\, United States
END:VEVENT
END:VCALENDAR