BEGIN:VCALENDAR
VERSION:2.0
PRODID:-//New River Gorge CVB - ECPv6.15.20//NONSGML v1.0//EN
CALSCALE:GREGORIAN
METHOD:PUBLISH
X-ORIGINAL-URL:https://newrivergorgecvb.com
X-WR-CALDESC:Events for New River Gorge CVB
REFRESH-INTERVAL;VALUE=DURATION:PT1H
X-Robots-Tag:noindex
X-PUBLISHED-TTL:PT1H
BEGIN:VTIMEZONE
TZID:America/New_York
BEGIN:DAYLIGHT
TZOFFSETFROM:-0500
TZOFFSETTO:-0400
TZNAME:EDT
DTSTART:20200308T070000
END:DAYLIGHT
BEGIN:STANDARD
TZOFFSETFROM:-0400
TZOFFSETTO:-0500
TZNAME:EST
DTSTART:20201101T060000
END:STANDARD
BEGIN:DAYLIGHT
TZOFFSETFROM:-0500
TZOFFSETTO:-0400
TZNAME:EDT
DTSTART:20210314T070000
END:DAYLIGHT
BEGIN:STANDARD
TZOFFSETFROM:-0400
TZOFFSETTO:-0500
TZNAME:EST
DTSTART:20211107T060000
END:STANDARD
BEGIN:DAYLIGHT
TZOFFSETFROM:-0500
TZOFFSETTO:-0400
TZNAME:EDT
DTSTART:20220313T070000
END:DAYLIGHT
BEGIN:STANDARD
TZOFFSETFROM:-0400
TZOFFSETTO:-0500
TZNAME:EST
DTSTART:20221106T060000
END:STANDARD
END:VTIMEZONE
BEGIN:VEVENT
DTSTART;TZID=America/New_York:20210902T000000
DTEND;TZID=America/New_York:20210905T235900
DTSTAMP:20260425T233110
CREATED:20181109T184031Z
LAST-MODIFIED:20210426T153953Z
UID:10000041-1630540800-1630886340@newrivergorgecvb.com
SUMMARY:Annual Oak Leaf Festival
DESCRIPTION:This is our 22nd annual Oak Leaf Festival. We will begin our Festival on Thursday\, September 2 – 5\, 2021 with a Meet and Greet with Oak Hill Middle School and continue throughout the weekend with Jeep Show\, bands\, games\, vendors\, car show\, chili cook-off and fireworks\, video game tournament\, Sweet Taste of Oak Hill\, among many other activities. We will also be featuring our grand parade on Saturday\, September 4th. It will be a fun filled weekend for all ages.
URL:https://newrivergorgecvb.com/event/annual-oak-leaf-festival-2019/
LOCATION:WV
ATTACH;FMTTYPE=image/jpeg:https://newrivergorgecvb.com/wp-content/uploads/2019/04/OakLeafFest-2-1.jpg
END:VEVENT
BEGIN:VEVENT
DTSTART;VALUE=DATE:20210903
DTEND;VALUE=DATE:20210906
DTSTAMP:20260425T233110
CREATED:20210727T155643Z
LAST-MODIFIED:20210727T155643Z
UID:10000199-1630627200-1630886399@newrivergorgecvb.com
SUMMARY:ACE Weekend
DESCRIPTION:ACE Adventure Resort is celebrating Labor Day weekend by giving back to our awesome guests. We got fun stuff going on all weekend and are kicking things off with an outdoor film showcase Friday. Saturday drink local craft beer\, devour a clam bake and jam to live music at The Lost Paddle. Sunday you can find used boats\, gear and other goodies at the end of summer ACE yard sale. Plus there are great deals on rafting trips and outdoor adventures and don’t miss the end of season sales at both our gear shop in Fayetteville and our outfitter store on property.
URL:https://newrivergorgecvb.com/event/ace-weekend/
LOCATION:ACE Adventure Resort\, 1 Concho Road\, Oak Hill\, WV\, 25901\, United States
ORGANIZER;CN="ACE Adventure Resort":MAILTO:ace@aceraft.com
END:VEVENT
BEGIN:VEVENT
DTSTART;VALUE=DATE:20210904
DTEND;VALUE=DATE:20210906
DTSTAMP:20260425T233110
CREATED:20210809T193804Z
LAST-MODIFIED:20210809T194030Z
UID:10000198-1630713600-1630886399@newrivergorgecvb.com
SUMMARY:Groove The Gorge 2021
DESCRIPTION:The New River Gorge got a little cooler this week as the Groove the Gorge\nfestival announced its lineup for 2021 featuring Grateful Jed and Three’s Company Blues! The\nfestival\, which boasts its grassroots Grateful Dead family-style atmosphere and iconic location\,\ntakes place at the Outpost at the New River Gorge which is located only minutes from the New\nRiver Gorge Bridge. This year’s festival is scheduled for Labor Day weekend\, September 4–5\,\n2021. BBQ and other smoked fare will be provided by Cast Iron Smokers and Bridge Brew Works\nwill be providing the locally brewed Belgian-style beer! Tickets are on sale through the festival\nwebsite.
URL:https://newrivergorgecvb.com/event/groove-the-gorge-2021/
LOCATION:The Outpost\, 843 Fayette Station Road\, Fayetteville\, WV\, 25840\, United States
ATTACH;FMTTYPE=image/jpeg:https://newrivergorgecvb.com/wp-content/uploads/2021/08/Groove-The-Gorge.jpg
END:VEVENT
END:VCALENDAR