BEGIN:VCALENDAR
VERSION:2.0
PRODID:-//New River Gorge CVB - ECPv6.15.20//NONSGML v1.0//EN
CALSCALE:GREGORIAN
METHOD:PUBLISH
X-WR-CALNAME:New River Gorge CVB
X-ORIGINAL-URL:https://newrivergorgecvb.com
X-WR-CALDESC:Events for New River Gorge CVB
REFRESH-INTERVAL;VALUE=DURATION:PT1H
X-Robots-Tag:noindex
X-PUBLISHED-TTL:PT1H
BEGIN:VTIMEZONE
TZID:America/New_York
BEGIN:DAYLIGHT
TZOFFSETFROM:-0500
TZOFFSETTO:-0400
TZNAME:EDT
DTSTART:20230312T070000
END:DAYLIGHT
BEGIN:STANDARD
TZOFFSETFROM:-0400
TZOFFSETTO:-0500
TZNAME:EST
DTSTART:20231105T060000
END:STANDARD
BEGIN:DAYLIGHT
TZOFFSETFROM:-0500
TZOFFSETTO:-0400
TZNAME:EDT
DTSTART:20240310T070000
END:DAYLIGHT
BEGIN:STANDARD
TZOFFSETFROM:-0400
TZOFFSETTO:-0500
TZNAME:EST
DTSTART:20241103T060000
END:STANDARD
BEGIN:DAYLIGHT
TZOFFSETFROM:-0500
TZOFFSETTO:-0400
TZNAME:EDT
DTSTART:20250309T070000
END:DAYLIGHT
BEGIN:STANDARD
TZOFFSETFROM:-0400
TZOFFSETTO:-0500
TZNAME:EST
DTSTART:20251102T060000
END:STANDARD
END:VTIMEZONE
BEGIN:VEVENT
DTSTART;TZID=America/New_York:20241205T183000
DTEND;TZID=America/New_York:20241205T203000
DTSTAMP:20260421T003323
CREATED:20241114T171105Z
LAST-MODIFIED:20241114T171105Z
UID:31258-1733423400-1733430600@newrivergorgecvb.com
SUMMARY:Pop & Shop Winter Market at Cathedral Cafe
DESCRIPTION:Get ready to *shop ‘til you pop* at Cathedral Cafe’s **Pop & Shop Winter Market** on December 5th from 6:30-8:30 PM! \n Join us for an evening of festive fun\, local shopping\, and exclusive goodies! Stroll through our cozy cafe as local vendors and creators showcase their best winter wares\, and be sure to stop by our Gift Shop for unique holiday finds!\n *21+ guests can enjoy complimentary champagne* from Five Star Real Estate Group while they browse\, and our Coffee Bar will be open with a specially curated menu of holiday-inspired cocktails and coffee drinks. Plus\, don’t miss our *bottomless Hot Chocolate Bar* for purchase to keep you warm all night!\n Grab your friends\, score some discounts and freebies\, and get in the holiday spirit with us! Shopping is always better with friends\, so invite your squad and make it a night to remember. Don’t miss out on the festive vibes—see you at the Winter Market! 
URL:https://newrivergorgecvb.com/event/pop-shop-winter-market-at-cathedral-cafe/
LOCATION:Cathedral Cafe\, 134 S Court St\, Fayetteville\, WV\, 25840\, United States
END:VEVENT
END:VCALENDAR