BEGIN:VCALENDAR
VERSION:2.0
PRODID:-//New River Gorge CVB - ECPv6.15.20//NONSGML v1.0//EN
CALSCALE:GREGORIAN
METHOD:PUBLISH
X-WR-CALNAME:New River Gorge CVB
X-ORIGINAL-URL:https://newrivergorgecvb.com
X-WR-CALDESC:Events for New River Gorge CVB
REFRESH-INTERVAL;VALUE=DURATION:PT1H
X-Robots-Tag:noindex
X-PUBLISHED-TTL:PT1H
BEGIN:VTIMEZONE
TZID:America/New_York
BEGIN:DAYLIGHT
TZOFFSETFROM:-0500
TZOFFSETTO:-0400
TZNAME:EDT
DTSTART:20240310T070000
END:DAYLIGHT
BEGIN:STANDARD
TZOFFSETFROM:-0400
TZOFFSETTO:-0500
TZNAME:EST
DTSTART:20241103T060000
END:STANDARD
BEGIN:DAYLIGHT
TZOFFSETFROM:-0500
TZOFFSETTO:-0400
TZNAME:EDT
DTSTART:20250309T070000
END:DAYLIGHT
BEGIN:STANDARD
TZOFFSETFROM:-0400
TZOFFSETTO:-0500
TZNAME:EST
DTSTART:20251102T060000
END:STANDARD
BEGIN:DAYLIGHT
TZOFFSETFROM:-0500
TZOFFSETTO:-0400
TZNAME:EDT
DTSTART:20260308T070000
END:DAYLIGHT
BEGIN:STANDARD
TZOFFSETFROM:-0400
TZOFFSETTO:-0500
TZNAME:EST
DTSTART:20261101T060000
END:STANDARD
END:VTIMEZONE
BEGIN:VEVENT
DTSTART;TZID=America/New_York:20251221T110000
DTEND;TZID=America/New_York:20251221T130000
DTSTAMP:20260420T174454
CREATED:20251125T193652Z
LAST-MODIFIED:20251125T193652Z
UID:59041-1766314800-1766322000@newrivergorgecvb.com
SUMMARY:Paint & Sip at Southside Junction Tap House
DESCRIPTION:Join us for an afternoon of creativity with a paint brush in one hand and tasty beverage in the other! Come on out for a fun afternoon Paint and Sip at The Southside Junction Tap House in Fayetteville and paint a red truck! $35/person includes all materials and step-by-step instructions including paints\, apron\, easel & a 16×20 inch canvas. This class is beginner friendly and for adults and kids 12+ years and older. Food and drink will be available for purchase- must be 21+ to purchase and/or consume alcohol. Come out for a fun afternoon with a paint brush in one hand and tasty beverage in the other! **Any cancelations less than 24 hours in advance will be given credit towards a future event- Eventbrite fee is nonrefundable
URL:https://newrivergorgecvb.com/event/paint-sip-at-southside-junction-tap-house/
LOCATION:Southside Junction Tap House\, 101 South Court Street\, Fayetteville\, WV\, 25840\, United States
ORGANIZER;CN="Wild & Wonderful Paint Parties":MAILTO:info@wildandwonderfulpaintparties.com
END:VEVENT
END:VCALENDAR