BEGIN:VCALENDAR
VERSION:2.0
PRODID:-//New River Gorge CVB - ECPv6.15.20//NONSGML v1.0//EN
CALSCALE:GREGORIAN
METHOD:PUBLISH
X-WR-CALNAME:New River Gorge CVB
X-ORIGINAL-URL:https://newrivergorgecvb.com
X-WR-CALDESC:Events for New River Gorge CVB
REFRESH-INTERVAL;VALUE=DURATION:PT1H
X-Robots-Tag:noindex
X-PUBLISHED-TTL:PT1H
BEGIN:VTIMEZONE
TZID:America/New_York
BEGIN:DAYLIGHT
TZOFFSETFROM:-0500
TZOFFSETTO:-0400
TZNAME:EDT
DTSTART:20220313T070000
END:DAYLIGHT
BEGIN:STANDARD
TZOFFSETFROM:-0400
TZOFFSETTO:-0500
TZNAME:EST
DTSTART:20221106T060000
END:STANDARD
BEGIN:DAYLIGHT
TZOFFSETFROM:-0500
TZOFFSETTO:-0400
TZNAME:EDT
DTSTART:20230312T070000
END:DAYLIGHT
BEGIN:STANDARD
TZOFFSETFROM:-0400
TZOFFSETTO:-0500
TZNAME:EST
DTSTART:20231105T060000
END:STANDARD
BEGIN:DAYLIGHT
TZOFFSETFROM:-0500
TZOFFSETTO:-0400
TZNAME:EDT
DTSTART:20240310T070000
END:DAYLIGHT
BEGIN:STANDARD
TZOFFSETFROM:-0400
TZOFFSETTO:-0500
TZNAME:EST
DTSTART:20241103T060000
END:STANDARD
END:VTIMEZONE
BEGIN:VEVENT
DTSTART;VALUE=DATE:20230601
DTEND;VALUE=DATE:20230604
DTSTAMP:20260421T070210
CREATED:20230215T211548Z
LAST-MODIFIED:20230215T211548Z
UID:21739-1685577600-1685836799@newrivergorgecvb.com
SUMMARY:Mountain Music Festival
DESCRIPTION:West Virginia’s best music festival is back at ACE Adventure Resort this summer June 1-3\, 2023. We are super excited and gearing up for the 9th year of Mountain Music Festival. Featuring over 20 bands on a beautiful mountaintop stage along with a few thousand of your closest friends!!\n\nFeaturing Les Claypool’s Fearless Flying Frog Brigade\, The Infamous Stringdusters\, Andy Frasco & The UN\, Big Something\, Rising Appalachia\, Sierra Hull\, Vince Herman Band & more. Plus tasty food\, creative vendors\, mind blowing visual artists\, fun workshops\, glorious camping and epic adventures right here in the New River Gorge National Park. This is Appalachia’s destination music festival featuring outdoor adventures alongside your favorite music!
URL:https://newrivergorgecvb.com/event/mountain-music-festival-4/
LOCATION:ACE Adventure Resort\, 1 Concho Road\, Oak Hill\, WV\, 25901\, United States
ATTACH;FMTTYPE=image/jpeg:https://newrivergorgecvb.com/wp-content/uploads/2023/02/mountain-music-festival-poster.jpg
ORGANIZER;CN="ACE Adventure Resort":MAILTO:ace@aceraft.com
END:VEVENT
END:VCALENDAR