BEGIN:VCALENDAR
VERSION:2.0
PRODID:-//New River Gorge CVB - ECPv6.15.20//NONSGML v1.0//EN
CALSCALE:GREGORIAN
METHOD:PUBLISH
X-WR-CALNAME:New River Gorge CVB
X-ORIGINAL-URL:https://newrivergorgecvb.com
X-WR-CALDESC:Events for New River Gorge CVB
REFRESH-INTERVAL;VALUE=DURATION:PT1H
X-Robots-Tag:noindex
X-PUBLISHED-TTL:PT1H
BEGIN:VTIMEZONE
TZID:America/New_York
BEGIN:DAYLIGHT
TZOFFSETFROM:-0500
TZOFFSETTO:-0400
TZNAME:EDT
DTSTART:20230312T070000
END:DAYLIGHT
BEGIN:STANDARD
TZOFFSETFROM:-0400
TZOFFSETTO:-0500
TZNAME:EST
DTSTART:20231105T060000
END:STANDARD
BEGIN:DAYLIGHT
TZOFFSETFROM:-0500
TZOFFSETTO:-0400
TZNAME:EDT
DTSTART:20240310T070000
END:DAYLIGHT
BEGIN:STANDARD
TZOFFSETFROM:-0400
TZOFFSETTO:-0500
TZNAME:EST
DTSTART:20241103T060000
END:STANDARD
BEGIN:DAYLIGHT
TZOFFSETFROM:-0500
TZOFFSETTO:-0400
TZNAME:EDT
DTSTART:20250309T070000
END:DAYLIGHT
BEGIN:STANDARD
TZOFFSETFROM:-0400
TZOFFSETTO:-0500
TZNAME:EST
DTSTART:20251102T060000
END:STANDARD
END:VTIMEZONE
BEGIN:VEVENT
DTSTART;TZID=America/New_York:20240907T170000
DTEND;TZID=America/New_York:20240907T210000
DTSTAMP:20260422T010828
CREATED:20240624T153659Z
LAST-MODIFIED:20240624T153755Z
UID:28716-1725728400-1725742800@newrivergorgecvb.com
SUMMARY:Historic Fayette Theater Masquerade Gala
DESCRIPTION:Put on your best mask and join us for a fun evening of music\, dancing\, raffles\, and a silent auction! The theater needs to raise $124\,000 to match a federal grant we were awarded in March. All proceeds will go towards matching that grant for renovations and upgrades to the theater building.
URL:https://newrivergorgecvb.com/event/historic-fayette-theater-masquerade-gala/
LOCATION:The Gaines Estate\, 225 W. Maple\, Fayetteville\, WV\, 25840\, United States
ATTACH;FMTTYPE=image/jpeg:https://newrivergorgecvb.com/wp-content/uploads/2024/06/Butter-Logo.jpg
END:VEVENT
END:VCALENDAR