BEGIN:VCALENDAR
VERSION:2.0
PRODID:-//New River Gorge CVB - ECPv6.15.20//NONSGML v1.0//EN
CALSCALE:GREGORIAN
METHOD:PUBLISH
X-WR-CALNAME:New River Gorge CVB
X-ORIGINAL-URL:https://newrivergorgecvb.com
X-WR-CALDESC:Events for New River Gorge CVB
REFRESH-INTERVAL;VALUE=DURATION:PT1H
X-Robots-Tag:noindex
X-PUBLISHED-TTL:PT1H
BEGIN:VTIMEZONE
TZID:America/New_York
BEGIN:DAYLIGHT
TZOFFSETFROM:-0500
TZOFFSETTO:-0400
TZNAME:EDT
DTSTART:20220313T070000
END:DAYLIGHT
BEGIN:STANDARD
TZOFFSETFROM:-0400
TZOFFSETTO:-0500
TZNAME:EST
DTSTART:20221106T060000
END:STANDARD
BEGIN:DAYLIGHT
TZOFFSETFROM:-0500
TZOFFSETTO:-0400
TZNAME:EDT
DTSTART:20230312T070000
END:DAYLIGHT
BEGIN:STANDARD
TZOFFSETFROM:-0400
TZOFFSETTO:-0500
TZNAME:EST
DTSTART:20231105T060000
END:STANDARD
BEGIN:DAYLIGHT
TZOFFSETFROM:-0500
TZOFFSETTO:-0400
TZNAME:EDT
DTSTART:20240310T070000
END:DAYLIGHT
BEGIN:STANDARD
TZOFFSETFROM:-0400
TZOFFSETTO:-0500
TZNAME:EST
DTSTART:20241103T060000
END:STANDARD
END:VTIMEZONE
BEGIN:VEVENT
DTSTART;TZID=America/New_York:20231207T173000
DTEND;TZID=America/New_York:20231207T190000
DTSTAMP:20260424T133217
CREATED:20231205T214559Z
LAST-MODIFIED:20231205T214756Z
UID:25864-1701970200-1701975600@newrivergorgecvb.com
SUMMARY:Christmas in the Village
DESCRIPTION:Join our Annual Christmas in the Village after hours event! This year we are excited to have Tea Time and Sugar Attack Cookie Company with us. Each Host will offer their own specials. Be sure to click interested and check the discussion to stay up to date on everything happening. December 7 after hours will start at 5:30pm and go on until 7pm.
URL:https://newrivergorgecvb.com/event/christmas-in-the-village/
LOCATION:Dove's Outlet Village\, 519 Hinkle Rd\, Fayetteville\, WV\, 25840
GEO:38.0246289;-81.1241014
X-APPLE-STRUCTURED-LOCATION;VALUE=URI;X-ADDRESS=Dove's Outlet Village 519 Hinkle Rd Fayetteville WV 25840;X-APPLE-RADIUS=500;X-TITLE=519 Hinkle Rd:geo:-81.1241014,38.0246289
END:VEVENT
END:VCALENDAR